BEGIN:VCALENDAR
VERSION:2.0
PRODID:-//UNIVERSITY OF TEXAS SCHOOL OF LAW//NONSGML Events Calendar v1.0//EN
X-WR-TIMEZONE:America/Chicago
BEGIN:VTIMEZONE
TZID:US/Central
X-LIC-LOCATION:America/Chicago
BEGIN:DAYLIGHT
TZOFFSETFROM:-0600
TZOFFSETTO:-0500
TZNAME:CDT
DTSTART:19700308T020000
RRULE:FREQ=YEARLY;BYMONTH=3;BYDAY=2SU
END:DAYLIGHT
BEGIN:STANDARD
TZOFFSETFROM:-0500
TZOFFSETTO:-0600
TZNAME:CST
DTSTART:19701101T020000
RRULE:FREQ=YEARLY;BYMONTH=11;BYDAY=1SU
END:STANDARD
END:VTIMEZONE
BEGIN:VEVENT
DTSTART;TZID=US/Central:20140821T080000
DTEND;VALUE=DATE-TIME;TZID=US/Central:20140821T150000

DTSTAMP:20260421T045500Z
CREATED:20140722T182100Z
LAST-MODIFIED:20140722T182100Z
UID:20140821T080000-19203@law.utexas.edu
SUMMARY:FreshLaw Orientation
DESCRIPTION:<p>Orientation for first year students. Admitted first year students can see more information at <a href="https://www.utexas.edu/law/admissions/freshlaw/">https://www.utexas.edu/law/admissions/freshlaw/</a> </p>\n\nIf you need an accommodation to participate in this event, please contact the event sponsor or the Texas Law Special Events Office at specialevents@law.utexas.edu no later than seven business days prior to the event.
X-ALT-DESC;FMTTYPE=text/html:<p>Orientation for first year students. Admitted first year students can see more information at <a href="https://www.utexas.edu/law/admissions/freshlaw/">https://www.utexas.edu/law/admissions/freshlaw/</a> </p><p>If you need an accommodation to participate in this event, please contact the event
                                          event sponsor or the Texas Law Special Events Office at <a href="mailto:specialevents@law.utexas.edu">specialevents@law.utexas.edu</a> no later than seven business days prior to the event.</p>


URL:http://law.utexas.edu/calendar/2014/08/21/19203/
CLASS:PUBLIC
STATUS:CONFIRMED

END:VEVENT
END:VCALENDAR