BEGIN:VCALENDAR
VERSION:2.0
PRODID:-//UNIVERSITY OF TEXAS SCHOOL OF LAW//NONSGML Events Calendar v1.0//EN
X-WR-TIMEZONE:America/Chicago
BEGIN:VTIMEZONE
TZID:US/Central
X-LIC-LOCATION:America/Chicago
BEGIN:DAYLIGHT
TZOFFSETFROM:-0600
TZOFFSETTO:-0500
TZNAME:CDT
DTSTART:19700308T020000
RRULE:FREQ=YEARLY;BYMONTH=3;BYDAY=2SU
END:DAYLIGHT
BEGIN:STANDARD
TZOFFSETFROM:-0500
TZOFFSETTO:-0600
TZNAME:CST
DTSTART:19701101T020000
RRULE:FREQ=YEARLY;BYMONTH=11;BYDAY=1SU
END:STANDARD
END:VTIMEZONE
BEGIN:VEVENT
DTSTART;TZID=US/Central:20140821T140000
DTEND;VALUE=DATE-TIME;TZID=US/Central:20140821T150000

DTSTAMP:20260421T045500Z
CREATED:20140815T184700Z
LAST-MODIFIED:20140815T190600Z
UID:20140821T140000-19294@law.utexas.edu
SUMMARY:Texas Law Launch
DESCRIPTION:<p>Join us for a presentation about the new brand for our law school - Texas Law. Find out more about why we embarked on a branding exercise and how we decided on Texas Law. Also, details and explanation will be provided about how to use the new brand and the support system that is in place. </p>\n\nIf you need an accommodation to participate in this event, please contact the event sponsor or the Texas Law Special Events Office at specialevents@law.utexas.edu no later than seven business days prior to the event.
X-ALT-DESC;FMTTYPE=text/html:<p>Join us for a presentation about the new brand for our law school - Texas Law. Find out more about why we embarked on a branding exercise and how we decided on Texas Law. Also, details and explanation will be provided about how to use the new brand and the support system that is in place. </p><p>If you need an accommodation to participate in this event, please contact the event
                                          event sponsor or the Texas Law Special Events Office at <a href="mailto:specialevents@law.utexas.edu">specialevents@law.utexas.edu</a> no later than seven business days prior to the event.</p>
CATEGORIES:Meeting
LOCATION:TNH 2.114 - Francis Auditorium
URL:http://law.utexas.edu/calendar/2014/08/21/19294/
CLASS:PUBLIC
STATUS:CONFIRMED

END:VEVENT
END:VCALENDAR