BEGIN:VCALENDAR
VERSION:2.0
PRODID:-//UNIVERSITY OF TEXAS SCHOOL OF LAW//NONSGML Events Calendar v1.0//EN
X-WR-TIMEZONE:America/Chicago
BEGIN:VTIMEZONE
TZID:US/Central
X-LIC-LOCATION:America/Chicago
BEGIN:DAYLIGHT
TZOFFSETFROM:-0600
TZOFFSETTO:-0500
TZNAME:CDT
DTSTART:19700308T020000
RRULE:FREQ=YEARLY;BYMONTH=3;BYDAY=2SU
END:DAYLIGHT
BEGIN:STANDARD
TZOFFSETFROM:-0500
TZOFFSETTO:-0600
TZNAME:CST
DTSTART:19701101T020000
RRULE:FREQ=YEARLY;BYMONTH=11;BYDAY=1SU
END:STANDARD
END:VTIMEZONE
BEGIN:VEVENT
DTSTART;TZID=US/Central:20140828T103000
DTEND;VALUE=DATE-TIME;TZID=US/Central:20140828T113000

DTSTAMP:20260421T045700Z
CREATED:20140818T211800Z
LAST-MODIFIED:20140825T210200Z
UID:20140828T103000-19330@law.utexas.edu
SUMMARY:HUD Honors Program Info Session
DESCRIPTION:<p>Debra Loya with the <a href="http://portal.hud.gov/hudportal/HUD">U.S. Department of Housing and Urban Development</a>, will talk about HUD and how to successfully apply for their Honors Programs. HUD's mission is to increase homeownership, support community development, and increase access to affordable housing free from discrimination. Coffee will be served.</p>
  <p>Please RSVP by Wednesday, August 27, on <a href="https://law-utexas-csm.symplicity.com/students/">UT Law Symplicity</a> by selecting the 'Events' tab. Note: 1Ls and LL.M.s may RSVP to Alisha Camacho at <a href="mailto:acamacho@law.utexas.edu">acamacho@law.utexas.edu</a>.</p>\n\nIf you need an accommodation to participate in this event, please contact the event sponsor or the Texas Law Special Events Office at specialevents@law.utexas.edu no later than seven business days prior to the event.
X-ALT-DESC;FMTTYPE=text/html:<p>Debra Loya with the <a href="http://portal.hud.gov/hudportal/HUD">U.S. Department of Housing and Urban Development</a>, will talk about HUD and how to successfully apply for their Honors Programs. HUD's mission is to increase homeownership, support community development, and increase access to affordable housing free from discrimination. Coffee will be served.</p>
  <p>Please RSVP by Wednesday, August 27, on <a href="https://law-utexas-csm.symplicity.com/students/">UT Law Symplicity</a> by selecting the 'Events' tab. Note: 1Ls and LL.M.s may RSVP to Alisha Camacho at <a href="mailto:acamacho@law.utexas.edu">acamacho@law.utexas.edu</a>.</p><p>If you need an accommodation to participate in this event, please contact the event
                                          event sponsor or the Texas Law Special Events Office at <a href="mailto:specialevents@law.utexas.edu">specialevents@law.utexas.edu</a> no later than seven business days prior to the event.</p>
CATEGORIES:Workshop / Training Program
LOCATION:Career Services Interview Suite
URL:http://law.utexas.edu/calendar/2014/08/28/19330/
CLASS:PUBLIC
STATUS:CONFIRMED
COMMENT:Please contact Denyse Demel, Government Career Counselor, at 512-232-1162 or <a href="mailto:ddemel@law.utexas.edu">ddemel@law.utexas.edu</a>.
END:VEVENT
END:VCALENDAR