BEGIN:VCALENDAR
VERSION:2.0
PRODID:-//UNIVERSITY OF TEXAS SCHOOL OF LAW//NONSGML Events Calendar v1.0//EN
X-WR-TIMEZONE:America/Chicago
BEGIN:VTIMEZONE
TZID:US/Central
X-LIC-LOCATION:America/Chicago
BEGIN:DAYLIGHT
TZOFFSETFROM:-0600
TZOFFSETTO:-0500
TZNAME:CDT
DTSTART:19700308T020000
RRULE:FREQ=YEARLY;BYMONTH=3;BYDAY=2SU
END:DAYLIGHT
BEGIN:STANDARD
TZOFFSETFROM:-0500
TZOFFSETTO:-0600
TZNAME:CST
DTSTART:19701101T020000
RRULE:FREQ=YEARLY;BYMONTH=11;BYDAY=1SU
END:STANDARD
END:VTIMEZONE
BEGIN:VEVENT
DTSTART;TZID=US/Central:20140903T113000
DTEND;VALUE=DATE-TIME;TZID=US/Central:20140903T133000

DTSTAMP:20260421T033100Z
CREATED:20140724T013300Z
LAST-MODIFIED:20140724T013300Z
UID:20140903T113000-19218@law.utexas.edu
SUMMARY:Student Organizational Fair
DESCRIPTION:<p>The Student Organizational Fair is for UT Law students to visit tables for all of the different student organizations, and learn about what they do. Students can collect information, sign up for organizations, and interact with organization leaders.</p>\n\nIf you need an accommodation to participate in this event, please contact the event sponsor or the Texas Law Special Events Office at specialevents@law.utexas.edu no later than seven business days prior to the event.
X-ALT-DESC;FMTTYPE=text/html:<p>The Student Organizational Fair is for UT Law students to visit tables for all of the different student organizations, and learn about what they do. Students can collect information, sign up for organizations, and interact with organization leaders.</p><p>If you need an accommodation to participate in this event, please contact the event
                                          event sponsor or the Texas Law Special Events Office at <a href="mailto:specialevents@law.utexas.edu">specialevents@law.utexas.edu</a> no later than seven business days prior to the event.</p>
CATEGORIES:Other
LOCATION:TNH 2.100 - Susman Godfrey Atrium
URL:http://law.utexas.edu/calendar/2014/09/03/19218/
CLASS:PUBLIC
STATUS:CONFIRMED

END:VEVENT
END:VCALENDAR