BEGIN:VCALENDAR
VERSION:2.0
PRODID:-//UNIVERSITY OF TEXAS SCHOOL OF LAW//NONSGML Events Calendar v1.0//EN
X-WR-TIMEZONE:America/Chicago
BEGIN:VTIMEZONE
TZID:US/Central
X-LIC-LOCATION:America/Chicago
BEGIN:DAYLIGHT
TZOFFSETFROM:-0600
TZOFFSETTO:-0500
TZNAME:CDT
DTSTART:19700308T020000
RRULE:FREQ=YEARLY;BYMONTH=3;BYDAY=2SU
END:DAYLIGHT
BEGIN:STANDARD
TZOFFSETFROM:-0500
TZOFFSETTO:-0600
TZNAME:CST
DTSTART:19701101T020000
RRULE:FREQ=YEARLY;BYMONTH=11;BYDAY=1SU
END:STANDARD
END:VTIMEZONE
BEGIN:VEVENT
DTSTART;TZID=US/Central:20140908T153000
DTEND;VALUE=DATE-TIME;TZID=US/Central:20140908T161500

DTSTAMP:20260421T033100Z
CREATED:20140709T032300Z
LAST-MODIFIED:20140904T024500Z
UID:20140908T153000-19123@law.utexas.edu
SUMMARY:ACS General Interest Meeting (2 of 2!)
DESCRIPTION:<p>Join the American Constitution Society (ACS) and find out how you can become involved with progressive lawyering at UT Law! ACS provides: </p>
  <p> • Regular lunchtime programs on critical issues </p>
  <p> • Networking happy hours with local progressive attorneys </p>
  <p> • Mentorship program with local and national progressive attorneys </p>
  <p> • Access to a national network of progressive students, faculty, and practitioners </p>
  <p>. . . and more opportunities for involvement! </p>
  <p>WHEN: Monday, September 8, 2014 at 3:30 p.m.
  WHERE: TNH 3.142 (Walker Classroom)</p>
  <p>Snacks will be provided! </p>
  <p>Can't attend the meeting? ACS is hosting another General Interest Meeting earlier in the day from 12-1pm in TNH 2.137. Otherwise, contact Nora at noraelizabethgay@gmail.com for more information. </p>\n\nIf you need an accommodation to participate in this event, please contact the event sponsor or the Texas Law Special Events Office at specialevents@law.utexas.edu no later than seven business days prior to the event.
X-ALT-DESC;FMTTYPE=text/html:<p>Join the American Constitution Society (ACS) and find out how you can become involved with progressive lawyering at UT Law! ACS provides: </p>
  <p> • Regular lunchtime programs on critical issues </p>
  <p> • Networking happy hours with local progressive attorneys </p>
  <p> • Mentorship program with local and national progressive attorneys </p>
  <p> • Access to a national network of progressive students, faculty, and practitioners </p>
  <p>. . . and more opportunities for involvement! </p>
  <p>WHEN: Monday, September 8, 2014 at 3:30 p.m.
  WHERE: TNH 3.142 (Walker Classroom)</p>
  <p>Snacks will be provided! </p>
  <p>Can't attend the meeting? ACS is hosting another General Interest Meeting earlier in the day from 12-1pm in TNH 2.137. Otherwise, contact Nora at noraelizabethgay@gmail.com for more information. </p><p>If you need an accommodation to participate in this event, please contact the event
                                          event sponsor or the Texas Law Special Events Office at <a href="mailto:specialevents@law.utexas.edu">specialevents@law.utexas.edu</a> no later than seven business days prior to the event.</p>
CATEGORIES:Meeting
LOCATION:TNH 3.142 - Walker Classroom
URL:http://law.utexas.edu/calendar/2014/09/08/19123/
CLASS:PUBLIC
STATUS:CONFIRMED
COMMENT:Contact Nora at noraelizabethgay@gmail.com
END:VEVENT
END:VCALENDAR