BEGIN:VCALENDAR
VERSION:2.0
PRODID:-//UNIVERSITY OF TEXAS SCHOOL OF LAW//NONSGML Events Calendar v1.0//EN
X-WR-TIMEZONE:America/Chicago
BEGIN:VTIMEZONE
TZID:US/Central
X-LIC-LOCATION:America/Chicago
BEGIN:DAYLIGHT
TZOFFSETFROM:-0600
TZOFFSETTO:-0500
TZNAME:CDT
DTSTART:19700308T020000
RRULE:FREQ=YEARLY;BYMONTH=3;BYDAY=2SU
END:DAYLIGHT
BEGIN:STANDARD
TZOFFSETFROM:-0500
TZOFFSETTO:-0600
TZNAME:CST
DTSTART:19701101T020000
RRULE:FREQ=YEARLY;BYMONTH=11;BYDAY=1SU
END:STANDARD
END:VTIMEZONE
BEGIN:VEVENT
DTSTART;TZID=US/Central:20140910T170000
DTEND;VALUE=DATE-TIME;TZID=US/Central:20140910T190000

DTSTAMP:20260421T033300Z
CREATED:20140903T174500Z
LAST-MODIFIED:20140905T192200Z
UID:20140910T170000-19433@law.utexas.edu
SUMMARY:Youth Court Training/First General Meeti
DESCRIPTION:<p>Come find out more about Youth Court and get everything you need to know for the first day at Webb Middle School. We will be heading over to Double Dave's after the meeting for drinks and food!</p>\n\nIf you need an accommodation to participate in this event, please contact the event sponsor or the Texas Law Special Events Office at specialevents@law.utexas.edu no later than seven business days prior to the event.
X-ALT-DESC;FMTTYPE=text/html:<p>Come find out more about Youth Court and get everything you need to know for the first day at Webb Middle School. We will be heading over to Double Dave's after the meeting for drinks and food!</p><p>If you need an accommodation to participate in this event, please contact the event
                                          event sponsor or the Texas Law Special Events Office at <a href="mailto:specialevents@law.utexas.edu">specialevents@law.utexas.edu</a> no later than seven business days prior to the event.</p>
CATEGORIES:Meeting

URL:http://law.utexas.edu/calendar/2014/09/10/19433/
CLASS:PUBLIC
STATUS:CONFIRMED

END:VEVENT
END:VCALENDAR