BEGIN:VCALENDAR
VERSION:2.0
PRODID:-//UNIVERSITY OF TEXAS SCHOOL OF LAW//NONSGML Events Calendar v1.0//EN
X-WR-TIMEZONE:America/Chicago
BEGIN:VTIMEZONE
TZID:US/Central
X-LIC-LOCATION:America/Chicago
BEGIN:DAYLIGHT
TZOFFSETFROM:-0600
TZOFFSETTO:-0500
TZNAME:CDT
DTSTART:19700308T020000
RRULE:FREQ=YEARLY;BYMONTH=3;BYDAY=2SU
END:DAYLIGHT
BEGIN:STANDARD
TZOFFSETFROM:-0500
TZOFFSETTO:-0600
TZNAME:CST
DTSTART:19701101T020000
RRULE:FREQ=YEARLY;BYMONTH=11;BYDAY=1SU
END:STANDARD
END:VTIMEZONE
BEGIN:VEVENT
DTSTART;TZID=US/Central:20140912T120000
DTEND;VALUE=DATE-TIME;TZID=US/Central:20140912T130000

DTSTAMP:20260421T033200Z
CREATED:20140729T210300Z
LAST-MODIFIED:20140908T190900Z
UID:20140912T120000-19241@law.utexas.edu
SUMMARY:Uncommon Counsel
DESCRIPTION:<p>Dr. Kate Bender of the Dave Nee Foundation will speak to students about depression, its prevalence in the legal profession, and the availability and effectiveness of treatment.  Attorneys have the highest rates of depression and suicide of any profession and 40% of law students in their third year of school report experiencing symptoms of depression. Further, lawyers are 3.6 times more likely than any other occupational group to suffer from depression. Lunch will be provided.  </p>\n\nIf you need an accommodation to participate in this event, please contact the event sponsor or the Texas Law Special Events Office at specialevents@law.utexas.edu no later than seven business days prior to the event.
X-ALT-DESC;FMTTYPE=text/html:<p>Dr. Kate Bender of the Dave Nee Foundation will speak to students about depression, its prevalence in the legal profession, and the availability and effectiveness of treatment.  Attorneys have the highest rates of depression and suicide of any profession and 40% of law students in their third year of school report experiencing symptoms of depression. Further, lawyers are 3.6 times more likely than any other occupational group to suffer from depression. Lunch will be provided.  </p><p>If you need an accommodation to participate in this event, please contact the event
                                          event sponsor or the Texas Law Special Events Office at <a href="mailto:specialevents@law.utexas.edu">specialevents@law.utexas.edu</a> no later than seven business days prior to the event.</p>
CATEGORIES:Lunch
LOCATION:TNH 3.127 - Roberts Classroom
URL:http://law.utexas.edu/calendar/2014/09/12/19241/
CLASS:PUBLIC
STATUS:CONFIRMED

END:VEVENT
END:VCALENDAR