BEGIN:VCALENDAR
VERSION:2.0
PRODID:-//UNIVERSITY OF TEXAS SCHOOL OF LAW//NONSGML Events Calendar v1.0//EN
X-WR-TIMEZONE:America/Chicago
BEGIN:VTIMEZONE
TZID:US/Central
X-LIC-LOCATION:America/Chicago
BEGIN:DAYLIGHT
TZOFFSETFROM:-0600
TZOFFSETTO:-0500
TZNAME:CDT
DTSTART:19700308T020000
RRULE:FREQ=YEARLY;BYMONTH=3;BYDAY=2SU
END:DAYLIGHT
BEGIN:STANDARD
TZOFFSETFROM:-0500
TZOFFSETTO:-0600
TZNAME:CST
DTSTART:19701101T020000
RRULE:FREQ=YEARLY;BYMONTH=11;BYDAY=1SU
END:STANDARD
END:VTIMEZONE
BEGIN:VEVENT
DTSTART;TZID=US/Central:20140912
DTEND;TZID=US/Central:20140913
X-MICROSOFT-CDO-ALLDAYEVENT:TRUE
X-FUNAMBOL-ALLDAY:TRUE
DTSTAMP:20260421T033200Z
CREATED:20140904T160500Z
LAST-MODIFIED:20140916T055500Z
UID:20140912T000000-19446@law.utexas.edu
SUMMARY:TJWL Write-on
DESCRIPTION:<p>It's Fall write-on time for the Texas Journal of Women and the Law! TJWL is one of the few journals that allows 1Ls to write-on, which often leads to an editorial board position during your 2L and 3L years. We welcome ALL students to apply! </p>
  <p>Pick up an application at the Communications Desk in the Atrium. Completed applications should be turned in by Friday, September 19, 2014 at 5:00pm to the TJWL box at the Communications Center, or email laurendm@utexas.edu with the subject: “TJWL APPLICATION.”</p>
  <p>ABOUT THE JOURNAL</p>
  <p>TJWL is an innovative, student-edited journal dedicated to publishing legal scholarship that explores the cultural, racial, and socio-economic factors affecting women. We celebrate the advances made by women's advocates and seek to enhance the relationship between theoretical and practical perspectives by promoting discourse on gender and the law issues.</p>
  <p>TJWL publishes twice during the academic year. Each publication includes a combination of three or four articles, notes, and/or comments. Preference for publication is given to student notes written by TJWL staff members.</p>
  <p>Staff members have the opportunity to take part in more than simple cite-checking. As a member of TJWL, you may take advantage of opportunities to edit, work directly with authors, select materials for publication, and work on non-publication projects.</p>
  <p>If you have questions or would like an application, please contact Lauren Miller at laurendm@utexas.edu. 
  </p>\n\nIf you need an accommodation to participate in this event, please contact the event sponsor or the Texas Law Special Events Office at specialevents@law.utexas.edu no later than seven business days prior to the event.
X-ALT-DESC;FMTTYPE=text/html:<p>It's Fall write-on time for the Texas Journal of Women and the Law! TJWL is one of the few journals that allows 1Ls to write-on, which often leads to an editorial board position during your 2L and 3L years. We welcome ALL students to apply! </p>
  <p>Pick up an application at the Communications Desk in the Atrium. Completed applications should be turned in by Friday, September 19, 2014 at 5:00pm to the TJWL box at the Communications Center, or email laurendm@utexas.edu with the subject: “TJWL APPLICATION.”</p>
  <p>ABOUT THE JOURNAL</p>
  <p>TJWL is an innovative, student-edited journal dedicated to publishing legal scholarship that explores the cultural, racial, and socio-economic factors affecting women. We celebrate the advances made by women's advocates and seek to enhance the relationship between theoretical and practical perspectives by promoting discourse on gender and the law issues.</p>
  <p>TJWL publishes twice during the academic year. Each publication includes a combination of three or four articles, notes, and/or comments. Preference for publication is given to student notes written by TJWL staff members.</p>
  <p>Staff members have the opportunity to take part in more than simple cite-checking. As a member of TJWL, you may take advantage of opportunities to edit, work directly with authors, select materials for publication, and work on non-publication projects.</p>
  <p>If you have questions or would like an application, please contact Lauren Miller at laurendm@utexas.edu. 
  </p><p>If you need an accommodation to participate in this event, please contact the event
                                          event sponsor or the Texas Law Special Events Office at <a href="mailto:specialevents@law.utexas.edu">specialevents@law.utexas.edu</a> no later than seven business days prior to the event.</p>
CATEGORIES:Workshop / Training Program

URL:http://law.utexas.edu/calendar/2014/09/12/19446/
CLASS:PUBLIC
STATUS:CONFIRMED

END:VEVENT
END:VCALENDAR