BEGIN:VCALENDAR
VERSION:2.0
PRODID:-//UNIVERSITY OF TEXAS SCHOOL OF LAW//NONSGML Events Calendar v1.0//EN
X-WR-TIMEZONE:America/Chicago
BEGIN:VTIMEZONE
TZID:US/Central
X-LIC-LOCATION:America/Chicago
BEGIN:DAYLIGHT
TZOFFSETFROM:-0600
TZOFFSETTO:-0500
TZNAME:CDT
DTSTART:19700308T020000
RRULE:FREQ=YEARLY;BYMONTH=3;BYDAY=2SU
END:DAYLIGHT
BEGIN:STANDARD
TZOFFSETFROM:-0500
TZOFFSETTO:-0600
TZNAME:CST
DTSTART:19701101T020000
RRULE:FREQ=YEARLY;BYMONTH=11;BYDAY=1SU
END:STANDARD
END:VTIMEZONE
BEGIN:VEVENT
DTSTART;TZID=US/Central:20140913


DTSTAMP:20260421T033100Z
CREATED:20140822T011700Z
LAST-MODIFIED:20140908T193200Z
UID:20140913T000000-19344@law.utexas.edu
SUMMARY:Diversity Education Weekend
DESCRIPTION:<p>All students are invited to attend Diversity Education Weekend,  hosted by the Chicano/Hispanic Law Students' Association, the Thurgood Marshall Legal Society, the Asian American Law Students Association, and OUTLaw.  </p>
  <p>On Friday Sept. 12th Bracewell &amp; Giuliani will host the kick-off cocktail reception from 6-7:30 p.m. at Sullivan's Steakhouse, 300 Colorado St. Complimentary valet parking is available.  RSVP to the kick-off cocktail reception by emailing <a href="mailto:rsvpae@bgllp.com">rsvpae@bgllp.com</a>.</p>
  <p>Events on Saturday Sept. 13th sponsored by Andrews Kurth will begin with student check-in at 8:00 a.m. at the Francis Auditorium, with breakfast served.  A series of panels will follow, including a Student Leader Panel, Practice Area Panel, and a Networking Panel.  The event will end with a networking lunch in the Susman Godfrey Atrium during which student attendees will have the opportunity to speak with panelists, professors, and local attorneys in a casual environment.</p>
  <p>Please RSVP by Friday, September 12, on <a href="https://law-utexas-csm.symplicity.com/students/">UT Law Symplicity</a> by selecting the 'Events' tab. </p>
  <p>Business casual attire is recommended for both the Friday happy hour and Saturday panels and lunch.  </p>\n\nIf you need an accommodation to participate in this event, please contact the event sponsor or the Texas Law Special Events Office at specialevents@law.utexas.edu no later than seven business days prior to the event.
X-ALT-DESC;FMTTYPE=text/html:<p>All students are invited to attend Diversity Education Weekend,  hosted by the Chicano/Hispanic Law Students' Association, the Thurgood Marshall Legal Society, the Asian American Law Students Association, and OUTLaw.  </p>
  <p>On Friday Sept. 12th Bracewell &amp; Giuliani will host the kick-off cocktail reception from 6-7:30 p.m. at Sullivan's Steakhouse, 300 Colorado St. Complimentary valet parking is available.  RSVP to the kick-off cocktail reception by emailing <a href="mailto:rsvpae@bgllp.com">rsvpae@bgllp.com</a>.</p>
  <p>Events on Saturday Sept. 13th sponsored by Andrews Kurth will begin with student check-in at 8:00 a.m. at the Francis Auditorium, with breakfast served.  A series of panels will follow, including a Student Leader Panel, Practice Area Panel, and a Networking Panel.  The event will end with a networking lunch in the Susman Godfrey Atrium during which student attendees will have the opportunity to speak with panelists, professors, and local attorneys in a casual environment.</p>
  <p>Please RSVP by Friday, September 12, on <a href="https://law-utexas-csm.symplicity.com/students/">UT Law Symplicity</a> by selecting the 'Events' tab. </p>
  <p>Business casual attire is recommended for both the Friday happy hour and Saturday panels and lunch.  </p><p>If you need an accommodation to participate in this event, please contact the event
                                          event sponsor or the Texas Law Special Events Office at <a href="mailto:specialevents@law.utexas.edu">specialevents@law.utexas.edu</a> no later than seven business days prior to the event.</p>
CATEGORIES:Panel Discussion / Speaker Series
LOCATION:TNH 2.114 - Francis Auditorium
URL:http://law.utexas.edu/calendar/2014/09/13/19344/
CLASS:PUBLIC
STATUS:CONFIRMED

END:VEVENT
END:VCALENDAR