BEGIN:VCALENDAR
VERSION:2.0
PRODID:-//UNIVERSITY OF TEXAS SCHOOL OF LAW//NONSGML Events Calendar v1.0//EN
X-WR-TIMEZONE:America/Chicago
BEGIN:VTIMEZONE
TZID:US/Central
X-LIC-LOCATION:America/Chicago
BEGIN:DAYLIGHT
TZOFFSETFROM:-0600
TZOFFSETTO:-0500
TZNAME:CDT
DTSTART:19700308T020000
RRULE:FREQ=YEARLY;BYMONTH=3;BYDAY=2SU
END:DAYLIGHT
BEGIN:STANDARD
TZOFFSETFROM:-0500
TZOFFSETTO:-0600
TZNAME:CST
DTSTART:19701101T020000
RRULE:FREQ=YEARLY;BYMONTH=11;BYDAY=1SU
END:STANDARD
END:VTIMEZONE
BEGIN:VEVENT
DTSTART;TZID=US/Central:20141006T160000
DTEND;VALUE=DATE-TIME;TZID=US/Central:20141006T180000

DTSTAMP:20260421T020800Z
CREATED:20140603T205400Z
LAST-MODIFIED:20140930T154700Z
UID:20141006T160000-18959@law.utexas.edu
SUMMARY:Health &amp; Human Rights Colloquium
DESCRIPTION:<p>Health &amp; Human Rights Colloquium</p>\n\nIf you need an accommodation to participate in this event, please contact the event sponsor or the Texas Law Special Events Office at specialevents@law.utexas.edu no later than seven business days prior to the event. Speakers: Lovell Jones, Ph.D., P, UT M.D. Anderson Cancer Center and UT Graduate School of Biomedical Sciences, Mitchell Katz, M.D., D, Los Angeles County Department of Health Services
X-ALT-DESC;FMTTYPE=text/html:<p>Health &amp; Human Rights Colloquium</p><p>If you need an accommodation to participate in this event, please contact the event
                                          event sponsor or the Texas Law Special Events Office at <a href="mailto:specialevents@law.utexas.edu">specialevents@law.utexas.edu</a> no later than seven business days prior to the event.</p> Speakers: Lovell Jones, Ph.D., P, UT M.D. Anderson Cancer Center and UT Graduate School of Biomedical Sciences, Mitchell Katz, M.D., D, Los Angeles County Department of Health Services

LOCATION:TNH 2.111 - Sheffield-Massey Room
URL:http://law.utexas.edu/calendar/2014/10/06/18959/
CLASS:PUBLIC
STATUS:CONFIRMED

END:VEVENT
END:VCALENDAR