BEGIN:VCALENDAR
VERSION:2.0
PRODID:-//UNIVERSITY OF TEXAS SCHOOL OF LAW//NONSGML Events Calendar v1.0//EN
X-WR-TIMEZONE:America/Chicago
BEGIN:VTIMEZONE
TZID:US/Central
X-LIC-LOCATION:America/Chicago
BEGIN:DAYLIGHT
TZOFFSETFROM:-0600
TZOFFSETTO:-0500
TZNAME:CDT
DTSTART:19700308T020000
RRULE:FREQ=YEARLY;BYMONTH=3;BYDAY=2SU
END:DAYLIGHT
BEGIN:STANDARD
TZOFFSETFROM:-0500
TZOFFSETTO:-0600
TZNAME:CST
DTSTART:19701101T020000
RRULE:FREQ=YEARLY;BYMONTH=11;BYDAY=1SU
END:STANDARD
END:VTIMEZONE
BEGIN:VEVENT
DTSTART;TZID=US/Central:20141006T131500
DTEND;VALUE=DATE-TIME;TZID=US/Central:20141006T134500

DTSTAMP:20260421T020700Z
CREATED:20141001T153400Z
LAST-MODIFIED:20141001T153400Z
UID:20141006T131500-19581@law.utexas.edu
SUMMARY:Early Registration Info Session
DESCRIPTION:<p>The Student Affairs Team will explain the early registration system to transfer and LLM students. Come hear about how the system works to better maximize your chances at getting your preferred schedule for Spring 2015.</p>\n\nIf you need an accommodation to participate in this event, please contact the event sponsor or the Texas Law Special Events Office at specialevents@law.utexas.edu no later than seven business days prior to the event.
X-ALT-DESC;FMTTYPE=text/html:<p>The Student Affairs Team will explain the early registration system to transfer and LLM students. Come hear about how the system works to better maximize your chances at getting your preferred schedule for Spring 2015.</p><p>If you need an accommodation to participate in this event, please contact the event
                                          event sponsor or the Texas Law Special Events Office at <a href="mailto:specialevents@law.utexas.edu">specialevents@law.utexas.edu</a> no later than seven business days prior to the event.</p>
CATEGORIES:Workshop / Training Program
LOCATION:TNH 2.123 - Beck Classroom
URL:http://law.utexas.edu/calendar/2014/10/06/19581/
CLASS:PUBLIC
STATUS:CONFIRMED

END:VEVENT
END:VCALENDAR