BEGIN:VCALENDAR
VERSION:2.0
PRODID:-//UNIVERSITY OF TEXAS SCHOOL OF LAW//NONSGML Events Calendar v1.0//EN
X-WR-TIMEZONE:America/Chicago
BEGIN:VTIMEZONE
TZID:US/Central
X-LIC-LOCATION:America/Chicago
BEGIN:DAYLIGHT
TZOFFSETFROM:-0600
TZOFFSETTO:-0500
TZNAME:CDT
DTSTART:19700308T020000
RRULE:FREQ=YEARLY;BYMONTH=3;BYDAY=2SU
END:DAYLIGHT
BEGIN:STANDARD
TZOFFSETFROM:-0500
TZOFFSETTO:-0600
TZNAME:CST
DTSTART:19701101T020000
RRULE:FREQ=YEARLY;BYMONTH=11;BYDAY=1SU
END:STANDARD
END:VTIMEZONE
BEGIN:VEVENT
DTSTART;TZID=US/Central:20141007T114500
DTEND;VALUE=DATE-TIME;TZID=US/Central:20141007T131500

DTSTAMP:20260421T020800Z
CREATED:20140625T154200Z
LAST-MODIFIED:20150603T182400Z
UID:20141007T114500-19060@law.utexas.edu
SUMMARY:CWIL Power Lunch Series
DESCRIPTION:<p>The Center for Women in Law, through the Power Lunch Series, seeks to highlight prominent women lawyers from a wide range of career paths in the legal profession. Power Lunch attendees will have a chance to discuss their own career interests and goals in a supportive, informative, and judgment-free environment.</p>
  <p>Series Line-up:</p>
  <p>Tuesday, October 7, 2014: Video - Arianna Huffington, <em>THRIVE: The Third Metric to Redefining Success and Creating a Life of Well-Being, Wisdom and Wonder</em> (<a title="UT Law - Ground Floor Map" href="http://www.utexas.edu/law/about/maps/">TNH 2.111</a>)</p>
  <p>Thursday, October 16, 2014: <a title="Linda L. Addison" href="http://www.nortonrosefulbright.com/people/90633/linda-l-addison">Linda L. Addison</a>, Managing Partner, United States Practice, Norton Rose Fulbright (<a title="UT Law - Ground Floor Map" href="http://www.utexas.edu/law/about/maps/index.php?level=5">JON 5.206</a>)</p>
  <p>Tuesday, October 21, 2014: <a title="Susan L. Blount" href="http://www.news.prudential.com/article_print.cfm?article_id=5161">Susan L. Blount</a>, Executive Vice President &amp; General Counsel, Prudential Financial, Inc. (<a title="UT Law - Ground Floor Map" href="http://www.utexas.edu/law/about/maps/">TNH 2.111</a>)</p>
  <p>Tuesday, October 28, 2014: <a title="Arleas Upton Kea" href="https://www.utexas.edu/law/alumni/diversity/kea_bio.php">Arleas Upton Kea</a>, Director, Division of Administration, FDIC (<a title="UT Law - 5th Floor Map" href="http://www.utexas.edu/law/about/maps/index.php?level=5">JON 5.257</a>)</p>\n\nIf you need an accommodation to participate in this event, please contact the event sponsor or the Texas Law Special Events Office at specialevents@law.utexas.edu no later than seven business days prior to the event.
X-ALT-DESC;FMTTYPE=text/html:<p>The Center for Women in Law, through the Power Lunch Series, seeks to highlight prominent women lawyers from a wide range of career paths in the legal profession. Power Lunch attendees will have a chance to discuss their own career interests and goals in a supportive, informative, and judgment-free environment.</p>
  <p>Series Line-up:</p>
  <p>Tuesday, October 7, 2014: Video - Arianna Huffington, <em>THRIVE: The Third Metric to Redefining Success and Creating a Life of Well-Being, Wisdom and Wonder</em> (<a title="UT Law - Ground Floor Map" href="http://www.utexas.edu/law/about/maps/">TNH 2.111</a>)</p>
  <p>Thursday, October 16, 2014: <a title="Linda L. Addison" href="http://www.nortonrosefulbright.com/people/90633/linda-l-addison">Linda L. Addison</a>, Managing Partner, United States Practice, Norton Rose Fulbright (<a title="UT Law - Ground Floor Map" href="http://www.utexas.edu/law/about/maps/index.php?level=5">JON 5.206</a>)</p>
  <p>Tuesday, October 21, 2014: <a title="Susan L. Blount" href="http://www.news.prudential.com/article_print.cfm?article_id=5161">Susan L. Blount</a>, Executive Vice President &amp; General Counsel, Prudential Financial, Inc. (<a title="UT Law - Ground Floor Map" href="http://www.utexas.edu/law/about/maps/">TNH 2.111</a>)</p>
  <p>Tuesday, October 28, 2014: <a title="Arleas Upton Kea" href="https://www.utexas.edu/law/alumni/diversity/kea_bio.php">Arleas Upton Kea</a>, Director, Division of Administration, FDIC (<a title="UT Law - 5th Floor Map" href="http://www.utexas.edu/law/about/maps/index.php?level=5">JON 5.257</a>)</p><p>If you need an accommodation to participate in this event, please contact the event
                                          event sponsor or the Texas Law Special Events Office at <a href="mailto:specialevents@law.utexas.edu">specialevents@law.utexas.edu</a> no later than seven business days prior to the event.</p>
CATEGORIES:Lunch
LOCATION:TNH 2.111 - Sheffield-Massey Room
URL:http://law.utexas.edu/calendar/2014/10/07/19060/
CLASS:PUBLIC
STATUS:CONFIRMED
COMMENT:RSVP to Melissa at mgalusky@law.utexas.edu or (512) 232-1911
END:VEVENT
END:VCALENDAR