BEGIN:VCALENDAR
VERSION:2.0
PRODID:-//UNIVERSITY OF TEXAS SCHOOL OF LAW//NONSGML Events Calendar v1.0//EN
X-WR-TIMEZONE:America/Chicago
BEGIN:VTIMEZONE
TZID:US/Central
X-LIC-LOCATION:America/Chicago
BEGIN:DAYLIGHT
TZOFFSETFROM:-0600
TZOFFSETTO:-0500
TZNAME:CDT
DTSTART:19700308T020000
RRULE:FREQ=YEARLY;BYMONTH=3;BYDAY=2SU
END:DAYLIGHT
BEGIN:STANDARD
TZOFFSETFROM:-0500
TZOFFSETTO:-0600
TZNAME:CST
DTSTART:19701101T020000
RRULE:FREQ=YEARLY;BYMONTH=11;BYDAY=1SU
END:STANDARD
END:VTIMEZONE
BEGIN:VEVENT
DTSTART;TZID=US/Central:20141007T114500
DTEND;VALUE=DATE-TIME;TZID=US/Central:20141007T124500

DTSTAMP:20260421T020800Z
CREATED:20140723T192300Z
LAST-MODIFIED:20141003T132900Z
UID:20141007T114500-19214@law.utexas.edu
SUMMARY:Institute for Justice Info Session
DESCRIPTION:<p>Sometimes law students are told they have two options: a miserable life earning decent money at a law firm, or a rewarding job coupled with a vow of poverty. This isn’t true. Jeff Rowes, a senior attorney with the Institute for Justice will discuss his public interest career path. The Institute for Justice, the nation’s leading libertarian public interest law firm, prides itself on offering the best of both worlds: cutting-edge constitutional litigation, combined with competitive pay. Sound interesting? Learn what steps you can take now to put yourself on a path to litigating the kind of cases you read about in the newspaper and your casebooks. Lunch will be served. RSVP by Monday, October 6, on UT Law Symplicity by selecting the 'Events' tab.</p>\n\nIf you need an accommodation to participate in this event, please contact the event sponsor or the Texas Law Special Events Office at specialevents@law.utexas.edu no later than seven business days prior to the event.
X-ALT-DESC;FMTTYPE=text/html:<p>Sometimes law students are told they have two options: a miserable life earning decent money at a law firm, or a rewarding job coupled with a vow of poverty. This isn’t true. Jeff Rowes, a senior attorney with the Institute for Justice will discuss his public interest career path. The Institute for Justice, the nation’s leading libertarian public interest law firm, prides itself on offering the best of both worlds: cutting-edge constitutional litigation, combined with competitive pay. Sound interesting? Learn what steps you can take now to put yourself on a path to litigating the kind of cases you read about in the newspaper and your casebooks. Lunch will be served. RSVP by Monday, October 6, on UT Law Symplicity by selecting the 'Events' tab.</p><p>If you need an accommodation to participate in this event, please contact the event
                                          event sponsor or the Texas Law Special Events Office at <a href="mailto:specialevents@law.utexas.edu">specialevents@law.utexas.edu</a> no later than seven business days prior to the event.</p>
CATEGORIES:Workshop / Training Program
LOCATION:TNH 3.125 - Denius Classroom
URL:http://law.utexas.edu/calendar/2014/10/07/19214/
CLASS:PUBLIC
STATUS:CONFIRMED
COMMENT:Please contact Nicole Simmons, Director of Public Service Programs, at 512-232-1160 or <a href="mailto:nsimmons@law.utexas.edu">nsimmons@law.utexas.edu</a>.
END:VEVENT
END:VCALENDAR