BEGIN:VCALENDAR
VERSION:2.0
PRODID:-//UNIVERSITY OF TEXAS SCHOOL OF LAW//NONSGML Events Calendar v1.0//EN
X-WR-TIMEZONE:America/Chicago
BEGIN:VTIMEZONE
TZID:US/Central
X-LIC-LOCATION:America/Chicago
BEGIN:DAYLIGHT
TZOFFSETFROM:-0600
TZOFFSETTO:-0500
TZNAME:CDT
DTSTART:19700308T020000
RRULE:FREQ=YEARLY;BYMONTH=3;BYDAY=2SU
END:DAYLIGHT
BEGIN:STANDARD
TZOFFSETFROM:-0500
TZOFFSETTO:-0600
TZNAME:CST
DTSTART:19701101T020000
RRULE:FREQ=YEARLY;BYMONTH=11;BYDAY=1SU
END:STANDARD
END:VTIMEZONE
BEGIN:VEVENT
DTSTART;TZID=US/Central:20141007T084500
DTEND;VALUE=DATE-TIME;TZID=US/Central:20141007T104500

DTSTAMP:20260421T020700Z
CREATED:20140827T162500Z
LAST-MODIFIED:20140923T191600Z
UID:20141007T084500-19360@law.utexas.edu
SUMMARY:Clinical Program Open House in CCJ
DESCRIPTION:<p>Clinical faculty, staff and students will be on hand to informally discuss the clinics and internships offered at UT Law in the Spring and Summer of 2015. Breakfast treats and coffee will be provided. All students are invited!</p>\n\nIf you need an accommodation to participate in this event, please contact the event sponsor or the Texas Law Special Events Office at specialevents@law.utexas.edu no later than seven business days prior to the event.
X-ALT-DESC;FMTTYPE=text/html:<p>Clinical faculty, staff and students will be on hand to informally discuss the clinics and internships offered at UT Law in the Spring and Summer of 2015. Breakfast treats and coffee will be provided. All students are invited!</p><p>If you need an accommodation to participate in this event, please contact the event
                                          event sponsor or the Texas Law Special Events Office at <a href="mailto:specialevents@law.utexas.edu">specialevents@law.utexas.edu</a> no later than seven business days prior to the event.</p>

LOCATION:
URL:http://law.utexas.edu/calendar/2014/10/07/19360/
CLASS:PUBLIC
STATUS:CONFIRMED

END:VEVENT
END:VCALENDAR