BEGIN:VCALENDAR
VERSION:2.0
PRODID:-//UNIVERSITY OF TEXAS SCHOOL OF LAW//NONSGML Events Calendar v1.0//EN
X-WR-TIMEZONE:America/Chicago
BEGIN:VTIMEZONE
TZID:US/Central
X-LIC-LOCATION:America/Chicago
BEGIN:DAYLIGHT
TZOFFSETFROM:-0600
TZOFFSETTO:-0500
TZNAME:CDT
DTSTART:19700308T020000
RRULE:FREQ=YEARLY;BYMONTH=3;BYDAY=2SU
END:DAYLIGHT
BEGIN:STANDARD
TZOFFSETFROM:-0500
TZOFFSETTO:-0600
TZNAME:CST
DTSTART:19701101T020000
RRULE:FREQ=YEARLY;BYMONTH=11;BYDAY=1SU
END:STANDARD
END:VTIMEZONE
BEGIN:VEVENT
DTSTART;TZID=US/Central:20141007T114500
DTEND;VALUE=DATE-TIME;TZID=US/Central:20141007T130000

DTSTAMP:20260421T033200Z
CREATED:20140922T184200Z
LAST-MODIFIED:20141002T202600Z
UID:20141007T114500-19512@law.utexas.edu
SUMMARY:The Financial Review - Seminar 2 - B-Sch
DESCRIPTION:<p>The Financial Review is a four part personal finance series to educate current law students on money. Attendees will learn the cost of attendance, managing money as a law student, and finance concepts like investing, homeownership, and debt management upon graduation. The series will be taught by Austin entrepreneur, and former McCombs student, Carly DeFelice who is the founder of Cash Money Revolution.</p>
  <p>On the web: www.cashmoneyrevolution.com
  RSVP by emailing: lawfinaid@law.utexas.edu</p>
  <p>Session 2: B-School for Law School
  Tuesday, October 7 11:50- 12:50, Fleming Room
  Learn about financial statements and how to manage your money like a Chief Financial Officer while in school.</p>\n\nIf you need an accommodation to participate in this event, please contact the event sponsor or the Texas Law Special Events Office at specialevents@law.utexas.edu no later than seven business days prior to the event.
X-ALT-DESC;FMTTYPE=text/html:<p>The Financial Review is a four part personal finance series to educate current law students on money. Attendees will learn the cost of attendance, managing money as a law student, and finance concepts like investing, homeownership, and debt management upon graduation. The series will be taught by Austin entrepreneur, and former McCombs student, Carly DeFelice who is the founder of Cash Money Revolution.</p>
  <p>On the web: www.cashmoneyrevolution.com
  RSVP by emailing: lawfinaid@law.utexas.edu</p>
  <p>Session 2: B-School for Law School
  Tuesday, October 7 11:50- 12:50, Fleming Room
  Learn about financial statements and how to manage your money like a Chief Financial Officer while in school.</p><p>If you need an accommodation to participate in this event, please contact the event
                                          event sponsor or the Texas Law Special Events Office at <a href="mailto:specialevents@law.utexas.edu">specialevents@law.utexas.edu</a> no later than seven business days prior to the event.</p>
CATEGORIES:Panel Discussion / Speaker Series
LOCATION:
URL:http://law.utexas.edu/calendar/2014/10/07/19512/
CLASS:PUBLIC
STATUS:CONFIRMED
COMMENT:RSVP to lawfinaid@law.utexas.edu
END:VEVENT
END:VCALENDAR