BEGIN:VCALENDAR
VERSION:2.0
PRODID:-//UNIVERSITY OF TEXAS SCHOOL OF LAW//NONSGML Events Calendar v1.0//EN
X-WR-TIMEZONE:America/Chicago
BEGIN:VTIMEZONE
TZID:US/Central
X-LIC-LOCATION:America/Chicago
BEGIN:DAYLIGHT
TZOFFSETFROM:-0600
TZOFFSETTO:-0500
TZNAME:CDT
DTSTART:19700308T020000
RRULE:FREQ=YEARLY;BYMONTH=3;BYDAY=2SU
END:DAYLIGHT
BEGIN:STANDARD
TZOFFSETFROM:-0500
TZOFFSETTO:-0600
TZNAME:CST
DTSTART:19701101T020000
RRULE:FREQ=YEARLY;BYMONTH=11;BYDAY=1SU
END:STANDARD
END:VTIMEZONE
BEGIN:VEVENT
DTSTART;TZID=US/Central:20141008T171500
DTEND;VALUE=DATE-TIME;TZID=US/Central:20141008T200000

DTSTAMP:20260421T020700Z
CREATED:20140924T152500Z
LAST-MODIFIED:20140924T153400Z
UID:20141008T171500-19535@law.utexas.edu
SUMMARY:National Security Agency Info Sesssion
DESCRIPTION:<p>Recruiters from the <a href="http://www.nsa.gov/">National Security Agency</a> will provide information on their mission and the work they do. They will also discuss the jobs and internships available and how the application process works. Presented by the LBJ School of Public Affairs</p>\n\nIf you need an accommodation to participate in this event, please contact the event sponsor or the Texas Law Special Events Office at specialevents@law.utexas.edu no later than seven business days prior to the event.
X-ALT-DESC;FMTTYPE=text/html:<p>Recruiters from the <a href="http://www.nsa.gov/">National Security Agency</a> will provide information on their mission and the work they do. They will also discuss the jobs and internships available and how the application process works. Presented by the LBJ School of Public Affairs</p><p>If you need an accommodation to participate in this event, please contact the event
                                          event sponsor or the Texas Law Special Events Office at <a href="mailto:specialevents@law.utexas.edu">specialevents@law.utexas.edu</a> no later than seven business days prior to the event.</p>
CATEGORIES:Workshop / Training Program
LOCATION:LBJ School of Public Affairs, SRH 3.124
URL:http://law.utexas.edu/calendar/2014/10/08/19535/
CLASS:PUBLIC
STATUS:CONFIRMED

END:VEVENT
END:VCALENDAR