BEGIN:VCALENDAR
VERSION:2.0
PRODID:-//UNIVERSITY OF TEXAS SCHOOL OF LAW//NONSGML Events Calendar v1.0//EN
X-WR-TIMEZONE:America/Chicago
BEGIN:VTIMEZONE
TZID:US/Central
X-LIC-LOCATION:America/Chicago
BEGIN:DAYLIGHT
TZOFFSETFROM:-0600
TZOFFSETTO:-0500
TZNAME:CDT
DTSTART:19700308T020000
RRULE:FREQ=YEARLY;BYMONTH=3;BYDAY=2SU
END:DAYLIGHT
BEGIN:STANDARD
TZOFFSETFROM:-0500
TZOFFSETTO:-0600
TZNAME:CST
DTSTART:19701101T020000
RRULE:FREQ=YEARLY;BYMONTH=11;BYDAY=1SU
END:STANDARD
END:VTIMEZONE
BEGIN:VEVENT
DTSTART;TZID=US/Central:20141008T153000
DTEND;VALUE=DATE-TIME;TZID=US/Central:20141008T163000

DTSTAMP:20260421T020800Z
CREATED:20140924T153400Z
LAST-MODIFIED:20140924T225600Z
UID:20141008T153000-19536@law.utexas.edu
SUMMARY:Health Law &amp; Bioethics Society Meeting
DESCRIPTION:<p>This meeting we will hear from law students who have interned at:
  Social Security Administration
  Texas Legal Services - Health Law Program
  State Board of Pharmacy</p>
  <p>Talk about our Medicaid in Texas speaker series</p>
  <p>and eat snacks!</p>\n\nIf you need an accommodation to participate in this event, please contact the event sponsor or the Texas Law Special Events Office at specialevents@law.utexas.edu no later than seven business days prior to the event.
X-ALT-DESC;FMTTYPE=text/html:<p>This meeting we will hear from law students who have interned at:
  Social Security Administration
  Texas Legal Services - Health Law Program
  State Board of Pharmacy</p>
  <p>Talk about our Medicaid in Texas speaker series</p>
  <p>and eat snacks!</p><p>If you need an accommodation to participate in this event, please contact the event
                                          event sponsor or the Texas Law Special Events Office at <a href="mailto:specialevents@law.utexas.edu">specialevents@law.utexas.edu</a> no later than seven business days prior to the event.</p>

LOCATION:TNH 3.129 - Atlas Seminar Room
URL:http://law.utexas.edu/calendar/2014/10/08/19536/
CLASS:PUBLIC
STATUS:CONFIRMED

END:VEVENT
END:VCALENDAR