BEGIN:VCALENDAR
VERSION:2.0
PRODID:-//UNIVERSITY OF TEXAS SCHOOL OF LAW//NONSGML Events Calendar v1.0//EN
X-WR-TIMEZONE:America/Chicago
BEGIN:VTIMEZONE
TZID:US/Central
X-LIC-LOCATION:America/Chicago
BEGIN:DAYLIGHT
TZOFFSETFROM:-0600
TZOFFSETTO:-0500
TZNAME:CDT
DTSTART:19700308T020000
RRULE:FREQ=YEARLY;BYMONTH=3;BYDAY=2SU
END:DAYLIGHT
BEGIN:STANDARD
TZOFFSETFROM:-0500
TZOFFSETTO:-0600
TZNAME:CST
DTSTART:19701101T020000
RRULE:FREQ=YEARLY;BYMONTH=11;BYDAY=1SU
END:STANDARD
END:VTIMEZONE
BEGIN:VEVENT
DTSTART;TZID=US/Central:20141015T124500
DTEND;VALUE=DATE-TIME;TZID=US/Central:20141015T181500

DTSTAMP:20260421T030400Z
CREATED:20140616T151000Z
LAST-MODIFIED:20140616T151000Z
UID:20141015T124500-19005@law.utexas.edu
SUMMARY:Fundamentals of Immigration Law
DESCRIPTION:<p>UT Law’s Fundamentals of Immigration and Nationality Law—ideal for new entrants to the field or as a refresher for experienced practitioners—provides an overview of U.S. immigration laws, agencies and jargon, outlines the basics of family immigration law practice, offers an introduction to removal proceedings, details issues new practitioners face in managing an immigration practice, and features a Welcome Reception. </p>
  <p>Continue on at the Conference on Immigration and Nationality Law for two full days of coverage on advanced issues.</p>\n\nIf you need an accommodation to participate in this event, please contact the event sponsor or the Texas Law Special Events Office at specialevents@law.utexas.edu no later than seven business days prior to the event.
X-ALT-DESC;FMTTYPE=text/html:<p>UT Law’s Fundamentals of Immigration and Nationality Law—ideal for new entrants to the field or as a refresher for experienced practitioners—provides an overview of U.S. immigration laws, agencies and jargon, outlines the basics of family immigration law practice, offers an introduction to removal proceedings, details issues new practitioners face in managing an immigration practice, and features a Welcome Reception. </p>
  <p>Continue on at the Conference on Immigration and Nationality Law for two full days of coverage on advanced issues.</p><p>If you need an accommodation to participate in this event, please contact the event
                                          event sponsor or the Texas Law Special Events Office at <a href="mailto:specialevents@law.utexas.edu">specialevents@law.utexas.edu</a> no later than seven business days prior to the event.</p>
CATEGORIES:Other
LOCATION:Radisson Hotel and Suites
URL:http://law.utexas.edu/calendar/2014/10/15/19005/
CLASS:PUBLIC
STATUS:CONFIRMED

END:VEVENT
END:VCALENDAR