BEGIN:VCALENDAR
VERSION:2.0
PRODID:-//UNIVERSITY OF TEXAS SCHOOL OF LAW//NONSGML Events Calendar v1.0//EN
X-WR-TIMEZONE:America/Chicago
BEGIN:VTIMEZONE
TZID:US/Central
X-LIC-LOCATION:America/Chicago
BEGIN:DAYLIGHT
TZOFFSETFROM:-0600
TZOFFSETTO:-0500
TZNAME:CDT
DTSTART:19700308T020000
RRULE:FREQ=YEARLY;BYMONTH=3;BYDAY=2SU
END:DAYLIGHT
BEGIN:STANDARD
TZOFFSETFROM:-0500
TZOFFSETTO:-0600
TZNAME:CST
DTSTART:19701101T020000
RRULE:FREQ=YEARLY;BYMONTH=11;BYDAY=1SU
END:STANDARD
END:VTIMEZONE
BEGIN:VEVENT
DTSTART;TZID=US/Central:20141015T120000
DTEND;VALUE=DATE-TIME;TZID=US/Central:20141015T130000

DTSTAMP:20260421T030500Z
CREATED:20141012T231700Z
LAST-MODIFIED:20141012T231700Z
UID:20141015T120000-19700@law.utexas.edu
SUMMARY:TX Fed Soc/ACS Debate Week, Round 2
DESCRIPTION:<p>Hobby Lobby and Religious Freedom
  Ryan Anderson (Fed Soc) v. Jan Soifer (ACS)
  Wednesday, Oct. 15th @ Noon
  Eidman Courtroom </p>
  <p>Free lunch!!</p>
  <p>Join ACS and FedSoc again on Wednesday for another debate, this time on the Hobby Lobby decision. Attorneys Jan Soifer of O'Connell &amp; Soifer (<a href="http://oconnellsoifer.com/our-professionals/jan-soifer/">http://oconnellsoifer.com/our-professionals/jan-soifer/</a>) and Ryan Anderson from the Heritage Foundation (<a href="http://www.heritage.org/about/staff/a/ryan-anderson">http://www.heritage.org/about/staff/a/ryan-anderson</a>) will debate Hobby Lobby, Religious Liberty, and the ACA.
  </p>\n\nIf you need an accommodation to participate in this event, please contact the event sponsor or the Texas Law Special Events Office at specialevents@law.utexas.edu no later than seven business days prior to the event.
X-ALT-DESC;FMTTYPE=text/html:<p>Hobby Lobby and Religious Freedom
  Ryan Anderson (Fed Soc) v. Jan Soifer (ACS)
  Wednesday, Oct. 15th @ Noon
  Eidman Courtroom </p>
  <p>Free lunch!!</p>
  <p>Join ACS and FedSoc again on Wednesday for another debate, this time on the Hobby Lobby decision. Attorneys Jan Soifer of O'Connell &amp; Soifer (<a href="http://oconnellsoifer.com/our-professionals/jan-soifer/">http://oconnellsoifer.com/our-professionals/jan-soifer/</a>) and Ryan Anderson from the Heritage Foundation (<a href="http://www.heritage.org/about/staff/a/ryan-anderson">http://www.heritage.org/about/staff/a/ryan-anderson</a>) will debate Hobby Lobby, Religious Liberty, and the ACA.
  </p><p>If you need an accommodation to participate in this event, please contact the event
                                          event sponsor or the Texas Law Special Events Office at <a href="mailto:specialevents@law.utexas.edu">specialevents@law.utexas.edu</a> no later than seven business days prior to the event.</p>

LOCATION:CCJ 2.306 - Eidman Courtroom
URL:http://law.utexas.edu/calendar/2014/10/15/19700/
CLASS:PUBLIC
STATUS:CONFIRMED

END:VEVENT
END:VCALENDAR