BEGIN:VCALENDAR
VERSION:2.0
PRODID:-//UNIVERSITY OF TEXAS SCHOOL OF LAW//NONSGML Events Calendar v1.0//EN
X-WR-TIMEZONE:America/Chicago
BEGIN:VTIMEZONE
TZID:US/Central
X-LIC-LOCATION:America/Chicago
BEGIN:DAYLIGHT
TZOFFSETFROM:-0600
TZOFFSETTO:-0500
TZNAME:CDT
DTSTART:19700308T020000
RRULE:FREQ=YEARLY;BYMONTH=3;BYDAY=2SU
END:DAYLIGHT
BEGIN:STANDARD
TZOFFSETFROM:-0500
TZOFFSETTO:-0600
TZNAME:CST
DTSTART:19701101T020000
RRULE:FREQ=YEARLY;BYMONTH=11;BYDAY=1SU
END:STANDARD
END:VTIMEZONE
BEGIN:VEVENT
DTSTART;TZID=US/Central:20141016T081500
DTEND;VALUE=DATE-TIME;TZID=US/Central:20141016T173000

DTSTAMP:20260421T030400Z
CREATED:20140616T151100Z
LAST-MODIFIED:20140616T151100Z
UID:20141016T081500-19006@law.utexas.edu
SUMMARY:Immigration and Nationality Law
DESCRIPTION:<p>UT Law’s Conference on Immigration and Nationality Law is ideal for practitioners of all experience levels, and provides an opportunity to meet with and learn from nationally recognized experts and to interact with colleagues. Get to know your fellow practitioners from around the state and hear how they are dealing with tough issues.</p>
  <p>The 2-day program offers tools, forms, tips and guidance on key decision points and strategies in family-based immigration cases and employment-based immigration cases, and the increasing importance of removal and relief from removal. </p>
  <p>Come a day early for Wednesday's Fundamentals of Immigration and Nationality Law—ideal for new entrants to the field or as a refresher for experienced practitioners.</p>\n\nIf you need an accommodation to participate in this event, please contact the event sponsor or the Texas Law Special Events Office at specialevents@law.utexas.edu no later than seven business days prior to the event.
X-ALT-DESC;FMTTYPE=text/html:<p>UT Law’s Conference on Immigration and Nationality Law is ideal for practitioners of all experience levels, and provides an opportunity to meet with and learn from nationally recognized experts and to interact with colleagues. Get to know your fellow practitioners from around the state and hear how they are dealing with tough issues.</p>
  <p>The 2-day program offers tools, forms, tips and guidance on key decision points and strategies in family-based immigration cases and employment-based immigration cases, and the increasing importance of removal and relief from removal. </p>
  <p>Come a day early for Wednesday's Fundamentals of Immigration and Nationality Law—ideal for new entrants to the field or as a refresher for experienced practitioners.</p><p>If you need an accommodation to participate in this event, please contact the event
                                          event sponsor or the Texas Law Special Events Office at <a href="mailto:specialevents@law.utexas.edu">specialevents@law.utexas.edu</a> no later than seven business days prior to the event.</p>
CATEGORIES:Other
LOCATION:Radisson Hotel and Suites
URL:http://law.utexas.edu/calendar/2014/10/16/19006/
CLASS:PUBLIC
STATUS:CONFIRMED

END:VEVENT
END:VCALENDAR