BEGIN:VCALENDAR
VERSION:2.0
PRODID:-//UNIVERSITY OF TEXAS SCHOOL OF LAW//NONSGML Events Calendar v1.0//EN
X-WR-TIMEZONE:America/Chicago
BEGIN:VTIMEZONE
TZID:US/Central
X-LIC-LOCATION:America/Chicago
BEGIN:DAYLIGHT
TZOFFSETFROM:-0600
TZOFFSETTO:-0500
TZNAME:CDT
DTSTART:19700308T020000
RRULE:FREQ=YEARLY;BYMONTH=3;BYDAY=2SU
END:DAYLIGHT
BEGIN:STANDARD
TZOFFSETFROM:-0500
TZOFFSETTO:-0600
TZNAME:CST
DTSTART:19701101T020000
RRULE:FREQ=YEARLY;BYMONTH=11;BYDAY=1SU
END:STANDARD
END:VTIMEZONE
BEGIN:VEVENT
DTSTART;TZID=US/Central:20141018T100000
DTEND;VALUE=DATE-TIME;TZID=US/Central:20141018T140000

DTSTAMP:20260421T042400Z
CREATED:20140923T012600Z
LAST-MODIFIED:20141015T203600Z
UID:20141018T100000-19525@law.utexas.edu
SUMMARY:Law Preview Exam Workshop
DESCRIPTION:<p>Thurgood Marshall Legal Society will host an exam workshop for all 1Ls on Saturday, October 18, 2014 from 10 a.m. to 2 p.m. in TNH 2.140. This workshop will feature guests from Vinson &amp; Elkins and other distinguished presenters who will provide students with exam strategies including how to effectively manage time during exams, dissect exam fact patterns and questions, and identify and frame relevant issues. Food and Refreshments will be provided. This workshop is open to all members of the class of 2017 regardless of membership in TMLS.</p>
  <p>RSVP by Friday, October 17, on <a href="https://law-utexas-csm.symplicity.com/students/">UT Law Symplicity</a> by selecting the "Events" tab.</p>\n\nIf you need an accommodation to participate in this event, please contact the event sponsor or the Texas Law Special Events Office at specialevents@law.utexas.edu no later than seven business days prior to the event.
X-ALT-DESC;FMTTYPE=text/html:<p>Thurgood Marshall Legal Society will host an exam workshop for all 1Ls on Saturday, October 18, 2014 from 10 a.m. to 2 p.m. in TNH 2.140. This workshop will feature guests from Vinson &amp; Elkins and other distinguished presenters who will provide students with exam strategies including how to effectively manage time during exams, dissect exam fact patterns and questions, and identify and frame relevant issues. Food and Refreshments will be provided. This workshop is open to all members of the class of 2017 regardless of membership in TMLS.</p>
  <p>RSVP by Friday, October 17, on <a href="https://law-utexas-csm.symplicity.com/students/">UT Law Symplicity</a> by selecting the "Events" tab.</p><p>If you need an accommodation to participate in this event, please contact the event
                                          event sponsor or the Texas Law Special Events Office at <a href="mailto:specialevents@law.utexas.edu">specialevents@law.utexas.edu</a> no later than seven business days prior to the event.</p>
CATEGORIES:Workshop / Training Program
LOCATION:TNH 2.140 - Wright Classroom
URL:http://law.utexas.edu/calendar/2014/10/18/19525/
CLASS:PUBLIC
STATUS:CONFIRMED
COMMENT:Ty'Meka Reeves at tmlspresident@gmail.com
END:VEVENT
END:VCALENDAR