BEGIN:VCALENDAR
VERSION:2.0
PRODID:-//UNIVERSITY OF TEXAS SCHOOL OF LAW//NONSGML Events Calendar v1.0//EN
X-WR-TIMEZONE:America/Chicago
BEGIN:VTIMEZONE
TZID:US/Central
X-LIC-LOCATION:America/Chicago
BEGIN:DAYLIGHT
TZOFFSETFROM:-0600
TZOFFSETTO:-0500
TZNAME:CDT
DTSTART:19700308T020000
RRULE:FREQ=YEARLY;BYMONTH=3;BYDAY=2SU
END:DAYLIGHT
BEGIN:STANDARD
TZOFFSETFROM:-0500
TZOFFSETTO:-0600
TZNAME:CST
DTSTART:19701101T020000
RRULE:FREQ=YEARLY;BYMONTH=11;BYDAY=1SU
END:STANDARD
END:VTIMEZONE
BEGIN:VEVENT
DTSTART;TZID=US/Central:20141117T171500
DTEND;VALUE=DATE-TIME;TZID=US/Central:20141117T200000

DTSTAMP:20260420T224000Z
CREATED:20141112T152000Z
LAST-MODIFIED:20141112T152500Z
UID:20141117T171500-19803@law.utexas.edu
SUMMARY:FBI Info Session
DESCRIPTION:<p>Three recruiters from the <a href="http://www.fbi.gov/">FBI </a>will provide information about the <a href="https://www.fbijobs.gov/11.asp">Special Agent</a>, <a href="https://fbi.usajobs.gov/GetJob/ViewDetails/385520200">Mission Support Analyst</a> and <a href="https://www.fbijobs.gov/12.asp">other positions</a> or <a href="https://www.fbijobs.gov/2.asp">internships</a> within the FBI. After answering any general questions, they will meet individually with interested students in advising sessions immediately following the information session from approximately 7:00 to 8:00 p.m.</p>\n\nIf you need an accommodation to participate in this event, please contact the event sponsor or the Texas Law Special Events Office at specialevents@law.utexas.edu no later than seven business days prior to the event.
X-ALT-DESC;FMTTYPE=text/html:<p>Three recruiters from the <a href="http://www.fbi.gov/">FBI </a>will provide information about the <a href="https://www.fbijobs.gov/11.asp">Special Agent</a>, <a href="https://fbi.usajobs.gov/GetJob/ViewDetails/385520200">Mission Support Analyst</a> and <a href="https://www.fbijobs.gov/12.asp">other positions</a> or <a href="https://www.fbijobs.gov/2.asp">internships</a> within the FBI. After answering any general questions, they will meet individually with interested students in advising sessions immediately following the information session from approximately 7:00 to 8:00 p.m.</p><p>If you need an accommodation to participate in this event, please contact the event
                                          event sponsor or the Texas Law Special Events Office at <a href="mailto:specialevents@law.utexas.edu">specialevents@law.utexas.edu</a> no later than seven business days prior to the event.</p>
CATEGORIES:Workshop / Training Program
LOCATION:LBJ School of Public Affairs, SRH 3.316/3.350
URL:http://law.utexas.edu/calendar/2014/11/17/19803/
CLASS:PUBLIC
STATUS:CONFIRMED

END:VEVENT
END:VCALENDAR