BEGIN:VCALENDAR
VERSION:2.0
PRODID:-//UNIVERSITY OF TEXAS SCHOOL OF LAW//NONSGML Events Calendar v1.0//EN
X-WR-TIMEZONE:America/Chicago
BEGIN:VTIMEZONE
TZID:US/Central
X-LIC-LOCATION:America/Chicago
BEGIN:DAYLIGHT
TZOFFSETFROM:-0600
TZOFFSETTO:-0500
TZNAME:CDT
DTSTART:19700308T020000
RRULE:FREQ=YEARLY;BYMONTH=3;BYDAY=2SU
END:DAYLIGHT
BEGIN:STANDARD
TZOFFSETFROM:-0500
TZOFFSETTO:-0600
TZNAME:CST
DTSTART:19701101T020000
RRULE:FREQ=YEARLY;BYMONTH=11;BYDAY=1SU
END:STANDARD
END:VTIMEZONE
BEGIN:VEVENT
DTSTART;TZID=US/Central:20141119T180000
DTEND;VALUE=DATE-TIME;TZID=US/Central:20141119T193000

DTSTAMP:20260420T211300Z
CREATED:20140616T152400Z
LAST-MODIFIED:20140616T152400Z
UID:20141119T180000-19012@law.utexas.edu
SUMMARY:Texas Water Law Institute
DESCRIPTION:<p>The Texas Water Law Institute provides latest information on the drought and its effect on water law and planning from regulatory agency members, water law practitioners and experts from around the state.</p>\n\nIf you need an accommodation to participate in this event, please contact the event sponsor or the Texas Law Special Events Office at specialevents@law.utexas.edu no later than seven business days prior to the event.
X-ALT-DESC;FMTTYPE=text/html:<p>The Texas Water Law Institute provides latest information on the drought and its effect on water law and planning from regulatory agency members, water law practitioners and experts from around the state.</p><p>If you need an accommodation to participate in this event, please contact the event
                                          event sponsor or the Texas Law Special Events Office at <a href="mailto:specialevents@law.utexas.edu">specialevents@law.utexas.edu</a> no later than seven business days prior to the event.</p>
CATEGORIES:Other
LOCATION:Radisson Hotel and Suites
URL:http://law.utexas.edu/calendar/2014/11/19/19012/
CLASS:PUBLIC
STATUS:CONFIRMED

END:VEVENT
END:VCALENDAR