BEGIN:VCALENDAR
VERSION:2.0
PRODID:-//UNIVERSITY OF TEXAS SCHOOL OF LAW//NONSGML Events Calendar v1.0//EN
X-WR-TIMEZONE:America/Chicago
BEGIN:VTIMEZONE
TZID:US/Central
X-LIC-LOCATION:America/Chicago
BEGIN:DAYLIGHT
TZOFFSETFROM:-0600
TZOFFSETTO:-0500
TZNAME:CDT
DTSTART:19700308T020000
RRULE:FREQ=YEARLY;BYMONTH=3;BYDAY=2SU
END:DAYLIGHT
BEGIN:STANDARD
TZOFFSETFROM:-0500
TZOFFSETTO:-0600
TZNAME:CST
DTSTART:19701101T020000
RRULE:FREQ=YEARLY;BYMONTH=11;BYDAY=1SU
END:STANDARD
END:VTIMEZONE
BEGIN:VEVENT
DTSTART;TZID=US/Central:20141119T131500
DTEND;VALUE=DATE-TIME;TZID=US/Central:20141119T141500

DTSTAMP:20260420T224000Z
CREATED:20141117T061600Z
LAST-MODIFIED:20141117T061600Z
UID:20141119T131500-19808@law.utexas.edu
SUMMARY:Re-imagining Gideon
DESCRIPTION:<p>This Wednesday, join ACS for a lunch discussion on civil legal aid and what the world would look like if the right to counsel was extended to civil cases: 'Re-imagining Gideon: The Right to Civil Legal Aid?' Steve Elliot from Volunteer Legal Services and Brian McGiverin from the Texas Civil Rights Project will help us lead the discussion on November 19 from 1:15-2:15pm in TNH 3.125. Lunch will be provided!</p>\n\nIf you need an accommodation to participate in this event, please contact the event sponsor or the Texas Law Special Events Office at specialevents@law.utexas.edu no later than seven business days prior to the event.
X-ALT-DESC;FMTTYPE=text/html:<p>This Wednesday, join ACS for a lunch discussion on civil legal aid and what the world would look like if the right to counsel was extended to civil cases: 'Re-imagining Gideon: The Right to Civil Legal Aid?' Steve Elliot from Volunteer Legal Services and Brian McGiverin from the Texas Civil Rights Project will help us lead the discussion on November 19 from 1:15-2:15pm in TNH 3.125. Lunch will be provided!</p><p>If you need an accommodation to participate in this event, please contact the event
                                          event sponsor or the Texas Law Special Events Office at <a href="mailto:specialevents@law.utexas.edu">specialevents@law.utexas.edu</a> no later than seven business days prior to the event.</p>
CATEGORIES:Lunch
LOCATION:TNH 3.125 - Denius Classroom
URL:http://law.utexas.edu/calendar/2014/11/19/19808/
CLASS:PUBLIC
STATUS:CONFIRMED
COMMENT:Contact Nora at noraelizabethgay@gmail.com
END:VEVENT
END:VCALENDAR