BEGIN:VCALENDAR
VERSION:2.0
PRODID:-//UNIVERSITY OF TEXAS SCHOOL OF LAW//NONSGML Events Calendar v1.0//EN
X-WR-TIMEZONE:America/Chicago
BEGIN:VTIMEZONE
TZID:US/Central
X-LIC-LOCATION:America/Chicago
BEGIN:DAYLIGHT
TZOFFSETFROM:-0600
TZOFFSETTO:-0500
TZNAME:CDT
DTSTART:19700308T020000
RRULE:FREQ=YEARLY;BYMONTH=3;BYDAY=2SU
END:DAYLIGHT
BEGIN:STANDARD
TZOFFSETFROM:-0500
TZOFFSETTO:-0600
TZNAME:CST
DTSTART:19701101T020000
RRULE:FREQ=YEARLY;BYMONTH=11;BYDAY=1SU
END:STANDARD
END:VTIMEZONE
BEGIN:VEVENT
DTSTART;TZID=US/Central:20141120T084500
DTEND;VALUE=DATE-TIME;TZID=US/Central:20141120T170000

DTSTAMP:20260420T211300Z
CREATED:20140616T152900Z
LAST-MODIFIED:20140616T152900Z
UID:20141120T084500-19015@law.utexas.edu
SUMMARY:Bankruptcy Conference
DESCRIPTION:<p>UT Law's outstanding Jay L. Westbrook Bankruptcy Conference, now in its 33rd year, is one of the premier bankruptcy programs in the nation. The conference attracts a stellar national faculty of prominent judges, academics and practitioners and provides an in-depth focus on current issues and topics in business and consumer bankruptcy.</p>\n\nIf you need an accommodation to participate in this event, please contact the event sponsor or the Texas Law Special Events Office at specialevents@law.utexas.edu no later than seven business days prior to the event.
X-ALT-DESC;FMTTYPE=text/html:<p>UT Law's outstanding Jay L. Westbrook Bankruptcy Conference, now in its 33rd year, is one of the premier bankruptcy programs in the nation. The conference attracts a stellar national faculty of prominent judges, academics and practitioners and provides an in-depth focus on current issues and topics in business and consumer bankruptcy.</p><p>If you need an accommodation to participate in this event, please contact the event
                                          event sponsor or the Texas Law Special Events Office at <a href="mailto:specialevents@law.utexas.edu">specialevents@law.utexas.edu</a> no later than seven business days prior to the event.</p>
CATEGORIES:Other
LOCATION:Four Seasons Hotel
URL:http://law.utexas.edu/calendar/2014/11/20/19015/
CLASS:PUBLIC
STATUS:CONFIRMED

END:VEVENT
END:VCALENDAR