BEGIN:VCALENDAR
VERSION:2.0
PRODID:-//UNIVERSITY OF TEXAS SCHOOL OF LAW//NONSGML Events Calendar v1.0//EN
X-WR-TIMEZONE:America/Chicago
BEGIN:VTIMEZONE
TZID:US/Central
X-LIC-LOCATION:America/Chicago
BEGIN:DAYLIGHT
TZOFFSETFROM:-0600
TZOFFSETTO:-0500
TZNAME:CDT
DTSTART:19700308T020000
RRULE:FREQ=YEARLY;BYMONTH=3;BYDAY=2SU
END:DAYLIGHT
BEGIN:STANDARD
TZOFFSETFROM:-0500
TZOFFSETTO:-0600
TZNAME:CST
DTSTART:19701101T020000
RRULE:FREQ=YEARLY;BYMONTH=11;BYDAY=1SU
END:STANDARD
END:VTIMEZONE
BEGIN:VEVENT
DTSTART;TZID=US/Central:20141120T183000
DTEND;VALUE=DATE-TIME;TZID=US/Central:20141120T200000

DTSTAMP:20260420T211300Z
CREATED:20141104T191600Z
LAST-MODIFIED:20141104T193000Z
UID:20141120T183000-19783@law.utexas.edu
SUMMARY:Movie Night &amp; Vegan Thanksgiving
DESCRIPTION:<p>Join the Student Animal Legal Defense Fund for a movie night and a Vegan Thanksgiving dinner! Catered by Central Market, we'll have a variety of alternative meat options and some Thanksgiving favorites.</p>
  <p>We'll also be screening Cowspiracy: The Sustainability Secret. Cowspiracy has been described as one of the most important environmental documentaries and one of the few that delves into the issues of animal agriculture and it's impact on our planet.</p>
  <p>Please come out and join us for an informative, fun, and yummy break from finals!</p>\n\nIf you need an accommodation to participate in this event, please contact the event sponsor or the Texas Law Special Events Office at specialevents@law.utexas.edu no later than seven business days prior to the event.
X-ALT-DESC;FMTTYPE=text/html:<p>Join the Student Animal Legal Defense Fund for a movie night and a Vegan Thanksgiving dinner! Catered by Central Market, we'll have a variety of alternative meat options and some Thanksgiving favorites.</p>
  <p>We'll also be screening Cowspiracy: The Sustainability Secret. Cowspiracy has been described as one of the most important environmental documentaries and one of the few that delves into the issues of animal agriculture and it's impact on our planet.</p>
  <p>Please come out and join us for an informative, fun, and yummy break from finals!</p><p>If you need an accommodation to participate in this event, please contact the event
                                          event sponsor or the Texas Law Special Events Office at <a href="mailto:specialevents@law.utexas.edu">specialevents@law.utexas.edu</a> no later than seven business days prior to the event.</p>
CATEGORIES:Dinner
LOCATION:TNH 2.123 - Beck Classroom
URL:http://law.utexas.edu/calendar/2014/11/20/19783/
CLASS:PUBLIC
STATUS:CONFIRMED
COMMENT:Email saldf.texas.law@gmail.com or els.texas.law@gmail.com
END:VEVENT
END:VCALENDAR