BEGIN:VCALENDAR
VERSION:2.0
PRODID:-//UNIVERSITY OF TEXAS SCHOOL OF LAW//NONSGML Events Calendar v1.0//EN
X-WR-TIMEZONE:America/Chicago
BEGIN:VTIMEZONE
TZID:US/Central
X-LIC-LOCATION:America/Chicago
BEGIN:DAYLIGHT
TZOFFSETFROM:-0600
TZOFFSETTO:-0500
TZNAME:CDT
DTSTART:19700308T020000
RRULE:FREQ=YEARLY;BYMONTH=3;BYDAY=2SU
END:DAYLIGHT
BEGIN:STANDARD
TZOFFSETFROM:-0500
TZOFFSETTO:-0600
TZNAME:CST
DTSTART:19701101T020000
RRULE:FREQ=YEARLY;BYMONTH=11;BYDAY=1SU
END:STANDARD
END:VTIMEZONE
BEGIN:VEVENT
DTSTART;TZID=US/Central:20141120T120000
DTEND;VALUE=DATE-TIME;TZID=US/Central:20141120T130000

DTSTAMP:20260420T211300Z
CREATED:20141106T143400Z
LAST-MODIFIED:20141106T145000Z
UID:20141120T120000-19792@law.utexas.edu
SUMMARY:U.S. Air Force JAG Information Session
DESCRIPTION:<p>Come learn about opportunities to practice law in the Air Force JAG Corps program. Capt Micah Pischnotte will be available to answer questions about the Air Force JAG Corps program specifically and the Air Force in general, and will advise students on the application process. Lunch will be served.</p>
  <p>Please RSVP by Wednesday, November 19, on<a href="https://law-utexas-csm.symplicity.com/students/"> Symplicity</a> by selecting the 'Events' tab. </p>\n\nIf you need an accommodation to participate in this event, please contact the event sponsor or the Texas Law Special Events Office at specialevents@law.utexas.edu no later than seven business days prior to the event.
X-ALT-DESC;FMTTYPE=text/html:<p>Come learn about opportunities to practice law in the Air Force JAG Corps program. Capt Micah Pischnotte will be available to answer questions about the Air Force JAG Corps program specifically and the Air Force in general, and will advise students on the application process. Lunch will be served.</p>
  <p>Please RSVP by Wednesday, November 19, on<a href="https://law-utexas-csm.symplicity.com/students/"> Symplicity</a> by selecting the 'Events' tab. </p><p>If you need an accommodation to participate in this event, please contact the event
                                          event sponsor or the Texas Law Special Events Office at <a href="mailto:specialevents@law.utexas.edu">specialevents@law.utexas.edu</a> no later than seven business days prior to the event.</p>
CATEGORIES:Workshop / Training Program
LOCATION:Career Services Interview Suite (TNH 3.122)
URL:http://law.utexas.edu/calendar/2014/11/20/19792/
CLASS:PUBLIC
STATUS:CONFIRMED
COMMENT:Please contact Denyse Demel, Government Career Counselor, at 512-232-1162 or <a href="mailto:ddemel@law.utexas.edu">ddemel@law.utexas.edu</a>.
END:VEVENT
END:VCALENDAR