BEGIN:VCALENDAR
VERSION:2.0
PRODID:-//UNIVERSITY OF TEXAS SCHOOL OF LAW//NONSGML Events Calendar v1.0//EN
X-WR-TIMEZONE:America/Chicago
BEGIN:VTIMEZONE
TZID:US/Central
X-LIC-LOCATION:America/Chicago
BEGIN:DAYLIGHT
TZOFFSETFROM:-0600
TZOFFSETTO:-0500
TZNAME:CDT
DTSTART:19700308T020000
RRULE:FREQ=YEARLY;BYMONTH=3;BYDAY=2SU
END:DAYLIGHT
BEGIN:STANDARD
TZOFFSETFROM:-0500
TZOFFSETTO:-0600
TZNAME:CST
DTSTART:19701101T020000
RRULE:FREQ=YEARLY;BYMONTH=11;BYDAY=1SU
END:STANDARD
END:VTIMEZONE
BEGIN:VEVENT
DTSTART;TZID=US/Central:20141124T084500
DTEND;VALUE=DATE-TIME;TZID=US/Central:20141124T094500

DTSTAMP:20260420T200600Z
CREATED:20140902T180900Z
LAST-MODIFIED:20140915T020800Z
UID:20141124T084500-19418@law.utexas.edu
SUMMARY:Alumni Association Monday Morning Joe
DESCRIPTION:<p>On Monday, September 8th, the Texas Law Alumni Association is pleased to announce that it will kick off its Texas Law Monday Morning Joe for all students. Please bring your favorite travel mug from home (we are “going green,” so no paper products will be provided) and enjoy FREE coffee every Monday morning to start off your week on behalf of the Alumni Association.  Coffee will be located at stations throughout the building beginning at 8:45 am.  </p>\n\nIf you need an accommodation to participate in this event, please contact the event sponsor or the Texas Law Special Events Office at specialevents@law.utexas.edu no later than seven business days prior to the event.
X-ALT-DESC;FMTTYPE=text/html:<p>On Monday, September 8th, the Texas Law Alumni Association is pleased to announce that it will kick off its Texas Law Monday Morning Joe for all students. Please bring your favorite travel mug from home (we are “going green,” so no paper products will be provided) and enjoy FREE coffee every Monday morning to start off your week on behalf of the Alumni Association.  Coffee will be located at stations throughout the building beginning at 8:45 am.  </p><p>If you need an accommodation to participate in this event, please contact the event
                                          event sponsor or the Texas Law Special Events Office at <a href="mailto:specialevents@law.utexas.edu">specialevents@law.utexas.edu</a> no later than seven business days prior to the event.</p>


URL:http://law.utexas.edu/calendar/2014/11/24/19418/
CLASS:PUBLIC
STATUS:CONFIRMED

END:VEVENT
END:VCALENDAR