BEGIN:VCALENDAR
VERSION:2.0
PRODID:-//UNIVERSITY OF TEXAS SCHOOL OF LAW//NONSGML Events Calendar v1.0//EN
X-WR-TIMEZONE:America/Chicago
BEGIN:VTIMEZONE
TZID:US/Central
X-LIC-LOCATION:America/Chicago
BEGIN:DAYLIGHT
TZOFFSETFROM:-0600
TZOFFSETTO:-0500
TZNAME:CDT
DTSTART:19700308T020000
RRULE:FREQ=YEARLY;BYMONTH=3;BYDAY=2SU
END:DAYLIGHT
BEGIN:STANDARD
TZOFFSETFROM:-0500
TZOFFSETTO:-0600
TZNAME:CST
DTSTART:19701101T020000
RRULE:FREQ=YEARLY;BYMONTH=11;BYDAY=1SU
END:STANDARD
END:VTIMEZONE
BEGIN:VEVENT
DTSTART;TZID=US/Central:20141202T110000
DTEND;VALUE=DATE-TIME;TZID=US/Central:20141202T133000

DTSTAMP:20260420T172700Z
CREATED:20141007T015200Z
LAST-MODIFIED:20141007T015200Z
UID:20141202T110000-19646@law.utexas.edu
SUMMARY:SALDF finals therapy dogs
DESCRIPTION:<p>Take some time out of your busy schedule on the eve of finals to come get some wet kisses and tail wags from our best friends at Divine Canines and to learn more about the Student Animal Legal Defense Fund! The volunteers and their therapy dogs will be in the atrium once again this December to provide some much-needed stress relief.</p>\n\nIf you need an accommodation to participate in this event, please contact the event sponsor or the Texas Law Special Events Office at specialevents@law.utexas.edu no later than seven business days prior to the event.
X-ALT-DESC;FMTTYPE=text/html:<p>Take some time out of your busy schedule on the eve of finals to come get some wet kisses and tail wags from our best friends at Divine Canines and to learn more about the Student Animal Legal Defense Fund! The volunteers and their therapy dogs will be in the atrium once again this December to provide some much-needed stress relief.</p><p>If you need an accommodation to participate in this event, please contact the event
                                          event sponsor or the Texas Law Special Events Office at <a href="mailto:specialevents@law.utexas.edu">specialevents@law.utexas.edu</a> no later than seven business days prior to the event.</p>
CATEGORIES:Other
LOCATION:TNH 2.100 - Susman Godfrey Atrium
URL:http://law.utexas.edu/calendar/2014/12/02/19646/
CLASS:PUBLIC
STATUS:CONFIRMED

END:VEVENT
END:VCALENDAR