BEGIN:VCALENDAR
VERSION:2.0
PRODID:-//UNIVERSITY OF TEXAS SCHOOL OF LAW//NONSGML Events Calendar v1.0//EN
X-WR-TIMEZONE:America/Chicago
BEGIN:VTIMEZONE
TZID:US/Central
X-LIC-LOCATION:America/Chicago
BEGIN:DAYLIGHT
TZOFFSETFROM:-0600
TZOFFSETTO:-0500
TZNAME:CDT
DTSTART:19700308T020000
RRULE:FREQ=YEARLY;BYMONTH=3;BYDAY=2SU
END:DAYLIGHT
BEGIN:STANDARD
TZOFFSETFROM:-0500
TZOFFSETTO:-0600
TZNAME:CST
DTSTART:19701101T020000
RRULE:FREQ=YEARLY;BYMONTH=11;BYDAY=1SU
END:STANDARD
END:VTIMEZONE
BEGIN:VEVENT
DTSTART;TZID=US/Central:20141202T153000
DTEND;VALUE=DATE-TIME;TZID=US/Central:20141202T171500

DTSTAMP:20260420T172700Z
CREATED:20141201T152700Z
LAST-MODIFIED:20141201T152700Z
UID:20141202T153000-19879@law.utexas.edu
SUMMARY:Klein Seminar Pizza Party
DESCRIPTION:<p>Provide pizza and sodas for 25 student and 2 professors to have at least two slices of pizza each. From Domino's Pizza to include:
  Pepperoni, Cheese and veggie.</p>\n\nIf you need an accommodation to participate in this event, please contact the event sponsor or the Texas Law Special Events Office at specialevents@law.utexas.edu no later than seven business days prior to the event.
X-ALT-DESC;FMTTYPE=text/html:<p>Provide pizza and sodas for 25 student and 2 professors to have at least two slices of pizza each. From Domino's Pizza to include:
  Pepperoni, Cheese and veggie.</p><p>If you need an accommodation to participate in this event, please contact the event
                                          event sponsor or the Texas Law Special Events Office at <a href="mailto:specialevents@law.utexas.edu">specialevents@law.utexas.edu</a> no later than seven business days prior to the event.</p>

LOCATION:TNH 3.126 - Ratliff Classroom
URL:http://law.utexas.edu/calendar/2014/12/02/19879/
CLASS:PUBLIC
STATUS:CONFIRMED

END:VEVENT
END:VCALENDAR