BEGIN:VCALENDAR
VERSION:2.0
PRODID:-//UNIVERSITY OF TEXAS SCHOOL OF LAW//NONSGML Events Calendar v1.0//EN
X-WR-TIMEZONE:America/Chicago
BEGIN:VTIMEZONE
TZID:US/Central
X-LIC-LOCATION:America/Chicago
BEGIN:DAYLIGHT
TZOFFSETFROM:-0600
TZOFFSETTO:-0500
TZNAME:CDT
DTSTART:19700308T020000
RRULE:FREQ=YEARLY;BYMONTH=3;BYDAY=2SU
END:DAYLIGHT
BEGIN:STANDARD
TZOFFSETFROM:-0500
TZOFFSETTO:-0600
TZNAME:CST
DTSTART:19701101T020000
RRULE:FREQ=YEARLY;BYMONTH=11;BYDAY=1SU
END:STANDARD
END:VTIMEZONE
BEGIN:VEVENT
DTSTART;TZID=US/Central:20141203T083000
DTEND;VALUE=DATE-TIME;TZID=US/Central:20141203T171500

DTSTAMP:20260420T172700Z
CREATED:20140616T153400Z
LAST-MODIFIED:20140616T153400Z
UID:20141203T083000-19017@law.utexas.edu
SUMMARY:Taxation Conference
DESCRIPTION:<p>The 62nd Annual Taxation Conference features an impressive slate of topics with regionally and nationally renowned speakers covering current trends, updates in tax regulation and policy, and much more.</p>
  <p>2014 program highlights include:</p>
  <p>- Nina Olson, the National Taxpayer Advocate, on IRS training and the taxpayer bill of rights</p>
  <p>- Windsor: One Year Later</p>
  <p>- Pass-through entities panel discussion</p>
  <p>- Texas state tax update</p>
  <p>- Offshore compliance update</p>
  <p>- Top 10 Ethics Issues that Get Tax Professionals in Trouble</p>
  <p>- 15 hours of credit</p>
  <p>Continue on Friday with Professor Stanley Johanson’s popular one-day Estate Planning Workshop offering lively discussion, practical advice and updates.</p>\n\nIf you need an accommodation to participate in this event, please contact the event sponsor or the Texas Law Special Events Office at specialevents@law.utexas.edu no later than seven business days prior to the event.
X-ALT-DESC;FMTTYPE=text/html:<p>The 62nd Annual Taxation Conference features an impressive slate of topics with regionally and nationally renowned speakers covering current trends, updates in tax regulation and policy, and much more.</p>
  <p>2014 program highlights include:</p>
  <p>- Nina Olson, the National Taxpayer Advocate, on IRS training and the taxpayer bill of rights</p>
  <p>- Windsor: One Year Later</p>
  <p>- Pass-through entities panel discussion</p>
  <p>- Texas state tax update</p>
  <p>- Offshore compliance update</p>
  <p>- Top 10 Ethics Issues that Get Tax Professionals in Trouble</p>
  <p>- 15 hours of credit</p>
  <p>Continue on Friday with Professor Stanley Johanson’s popular one-day Estate Planning Workshop offering lively discussion, practical advice and updates.</p><p>If you need an accommodation to participate in this event, please contact the event
                                          event sponsor or the Texas Law Special Events Office at <a href="mailto:specialevents@law.utexas.edu">specialevents@law.utexas.edu</a> no later than seven business days prior to the event.</p>
CATEGORIES:Other
LOCATION:Radisson Hotel and Suites
URL:http://law.utexas.edu/calendar/2014/12/03/19017/
CLASS:PUBLIC
STATUS:CONFIRMED

END:VEVENT
END:VCALENDAR