BEGIN:VCALENDAR
VERSION:2.0
PRODID:-//UNIVERSITY OF TEXAS SCHOOL OF LAW//NONSGML Events Calendar v1.0//EN
X-WR-TIMEZONE:America/Chicago
BEGIN:VTIMEZONE
TZID:US/Central
X-LIC-LOCATION:America/Chicago
BEGIN:DAYLIGHT
TZOFFSETFROM:-0600
TZOFFSETTO:-0500
TZNAME:CDT
DTSTART:19700308T020000
RRULE:FREQ=YEARLY;BYMONTH=3;BYDAY=2SU
END:DAYLIGHT
BEGIN:STANDARD
TZOFFSETFROM:-0500
TZOFFSETTO:-0600
TZNAME:CST
DTSTART:19701101T020000
RRULE:FREQ=YEARLY;BYMONTH=11;BYDAY=1SU
END:STANDARD
END:VTIMEZONE
BEGIN:VEVENT
DTSTART;TZID=US/Central:20141205
DTEND;TZID=US/Central:20141206
X-MICROSOFT-CDO-ALLDAYEVENT:TRUE
X-FUNAMBOL-ALLDAY:TRUE
DTSTAMP:20260420T184600Z
CREATED:20140225T151400Z
LAST-MODIFIED:20140225T151400Z
UID:20141205T000000-18660@law.utexas.edu
SUMMARY:40-Hour Basic Mediation training
DESCRIPTION:<p>This intensive five-day program is designed to provide individuals with the knowledge and skills necessary to mediate a variety of everyday disputes. This course emphasizes the importance of practical experience in becoming an effective mediator. During frequent role-plays, each participant will mediate a variety of disputes with expert feedback. </p>
  <p>This course is designed to satisfy the 40 classroom hours of training required to mediate court-referred disputes as indicated in the Texas Alternative Dispute Resolution Act § 154.052, Tex. Civ. Prac. &amp; Rem. Code Ann. This course also meets the Texas Mediator Trainers Roundtable's requirements.</p>
  <p>What you will learn:
  •General principles of the mediation process 
  •Identification and practice of communication skills used by mediators 
  •Introduction to the negotiation process including methods and styles of negotiation 
  •Ethical considerations associated with mediation 
  •Your mediation technique - one day of videotaping mock mediations for purposes of providing constructive feedback to the participants 
  •Application of mediation techniques in complex multi-party disputes
  </p>\n\nIf you need an accommodation to participate in this event, please contact the event sponsor or the Texas Law Special Events Office at specialevents@law.utexas.edu no later than seven business days prior to the event.
X-ALT-DESC;FMTTYPE=text/html:<p>This intensive five-day program is designed to provide individuals with the knowledge and skills necessary to mediate a variety of everyday disputes. This course emphasizes the importance of practical experience in becoming an effective mediator. During frequent role-plays, each participant will mediate a variety of disputes with expert feedback. </p>
  <p>This course is designed to satisfy the 40 classroom hours of training required to mediate court-referred disputes as indicated in the Texas Alternative Dispute Resolution Act § 154.052, Tex. Civ. Prac. &amp; Rem. Code Ann. This course also meets the Texas Mediator Trainers Roundtable's requirements.</p>
  <p>What you will learn:
  •General principles of the mediation process 
  •Identification and practice of communication skills used by mediators 
  •Introduction to the negotiation process including methods and styles of negotiation 
  •Ethical considerations associated with mediation 
  •Your mediation technique - one day of videotaping mock mediations for purposes of providing constructive feedback to the participants 
  •Application of mediation techniques in complex multi-party disputes
  </p><p>If you need an accommodation to participate in this event, please contact the event
                                          event sponsor or the Texas Law Special Events Office at <a href="mailto:specialevents@law.utexas.edu">specialevents@law.utexas.edu</a> no later than seven business days prior to the event.</p>
CATEGORIES:Workshop / Training Program
LOCATION:CCJ 2.306 - Eidman Courtroom
URL:http://law.utexas.edu/calendar/2014/12/05/18660/
CLASS:PUBLIC
STATUS:CONFIRMED

END:VEVENT
END:VCALENDAR