BEGIN:VCALENDAR
VERSION:2.0
PRODID:-//UNIVERSITY OF TEXAS SCHOOL OF LAW//NONSGML Events Calendar v1.0//EN
X-WR-TIMEZONE:America/Chicago
BEGIN:VTIMEZONE
TZID:US/Central
X-LIC-LOCATION:America/Chicago
BEGIN:DAYLIGHT
TZOFFSETFROM:-0600
TZOFFSETTO:-0500
TZNAME:CDT
DTSTART:19700308T020000
RRULE:FREQ=YEARLY;BYMONTH=3;BYDAY=2SU
END:DAYLIGHT
BEGIN:STANDARD
TZOFFSETFROM:-0500
TZOFFSETTO:-0600
TZNAME:CST
DTSTART:19701101T020000
RRULE:FREQ=YEARLY;BYMONTH=11;BYDAY=1SU
END:STANDARD
END:VTIMEZONE
BEGIN:VEVENT
DTSTART;TZID=US/Central:20141205T081500
DTEND;VALUE=DATE-TIME;TZID=US/Central:20141205T160000

DTSTAMP:20260420T184500Z
CREATED:20140616T153800Z
LAST-MODIFIED:20140616T153800Z
UID:20141205T081500-19019@law.utexas.edu
SUMMARY:Estate Planning Workshop
DESCRIPTION:<p>The tradition continues—Professor Stanley M. Johanson’s popular one-day Estate Planning Workshop offers timely topics, lively discussion and practical advice. </p>
  <p>Come on Wednesday for the 62nd Annual Taxation Conference for the latest developments in tax regulations, policy and legislation.</p>\n\nIf you need an accommodation to participate in this event, please contact the event sponsor or the Texas Law Special Events Office at specialevents@law.utexas.edu no later than seven business days prior to the event.
X-ALT-DESC;FMTTYPE=text/html:<p>The tradition continues—Professor Stanley M. Johanson’s popular one-day Estate Planning Workshop offers timely topics, lively discussion and practical advice. </p>
  <p>Come on Wednesday for the 62nd Annual Taxation Conference for the latest developments in tax regulations, policy and legislation.</p><p>If you need an accommodation to participate in this event, please contact the event
                                          event sponsor or the Texas Law Special Events Office at <a href="mailto:specialevents@law.utexas.edu">specialevents@law.utexas.edu</a> no later than seven business days prior to the event.</p>
CATEGORIES:Other
LOCATION:Radisson Hotel and Suites
URL:http://law.utexas.edu/calendar/2014/12/05/19019/
CLASS:PUBLIC
STATUS:CONFIRMED

END:VEVENT
END:VCALENDAR