BEGIN:VCALENDAR
VERSION:2.0
PRODID:-//UNIVERSITY OF TEXAS SCHOOL OF LAW//NONSGML Events Calendar v1.0//EN
X-WR-TIMEZONE:America/Chicago
BEGIN:VTIMEZONE
TZID:US/Central
X-LIC-LOCATION:America/Chicago
BEGIN:DAYLIGHT
TZOFFSETFROM:-0600
TZOFFSETTO:-0500
TZNAME:CDT
DTSTART:19700308T020000
RRULE:FREQ=YEARLY;BYMONTH=3;BYDAY=2SU
END:DAYLIGHT
BEGIN:STANDARD
TZOFFSETFROM:-0500
TZOFFSETTO:-0600
TZNAME:CST
DTSTART:19701101T020000
RRULE:FREQ=YEARLY;BYMONTH=11;BYDAY=1SU
END:STANDARD
END:VTIMEZONE
BEGIN:VEVENT
DTSTART;TZID=US/Central:20141210T120000


DTSTAMP:20260420T173600Z
CREATED:20141120T181000Z
LAST-MODIFIED:20141120T181600Z
UID:20141210T120000-19824@law.utexas.edu
SUMMARY:PSCF - Registration &amp; Bidding Open
DESCRIPTION:<p>Registration and bidding for the 2015 Public Service Career Fair (PSCF) opens on Wednesday December 10, 2014 at noon. PSCF is the largest public service job fair for law students in Texas. During both days of the fair, public interest and government employers will conduct interviews for paid and unpaid summer and permanent positions. Employers may request to interview first, second, third-year and LL.M. students and/or alumni up to one year after graduation from nine participating Texas law schools.</p>
  <p>You must register to use the <a href="https://law-tx-csm.symplicity.com/students">Texas Consortium Symplicity Module</a>, which is a different module than the Texas Law's Symplicity.
  Go to the <a href="https://law-tx-csm.symplicity.com/students">Texas Consortium Symplicity Module</a>.
  	Click on the [Register] tab.
  	Please fill in the requested information on your profile. When completed, click the [Submit] button.
  	An automatically generated email will be sent to you to verify your email address. After approval, a new email will be generated to you with your password.
  	You may change your password and update your profile at anytime.</p>
  <p>Bidding closes at noon on <strong>Friday, January 2, 2015</strong>.</p>\n\nIf you need an accommodation to participate in this event, please contact the event sponsor or the Texas Law Special Events Office at specialevents@law.utexas.edu no later than seven business days prior to the event.
X-ALT-DESC;FMTTYPE=text/html:<p>Registration and bidding for the 2015 Public Service Career Fair (PSCF) opens on Wednesday December 10, 2014 at noon. PSCF is the largest public service job fair for law students in Texas. During both days of the fair, public interest and government employers will conduct interviews for paid and unpaid summer and permanent positions. Employers may request to interview first, second, third-year and LL.M. students and/or alumni up to one year after graduation from nine participating Texas law schools.</p>
  <p>You must register to use the <a href="https://law-tx-csm.symplicity.com/students">Texas Consortium Symplicity Module</a>, which is a different module than the Texas Law's Symplicity.
  Go to the <a href="https://law-tx-csm.symplicity.com/students">Texas Consortium Symplicity Module</a>.
  	Click on the [Register] tab.
  	Please fill in the requested information on your profile. When completed, click the [Submit] button.
  	An automatically generated email will be sent to you to verify your email address. After approval, a new email will be generated to you with your password.
  	You may change your password and update your profile at anytime.</p>
  <p>Bidding closes at noon on <strong>Friday, January 2, 2015</strong>.</p><p>If you need an accommodation to participate in this event, please contact the event
                                          event sponsor or the Texas Law Special Events Office at <a href="mailto:specialevents@law.utexas.edu">specialevents@law.utexas.edu</a> no later than seven business days prior to the event.</p>
CATEGORIES:Interview Program

URL:http://law.utexas.edu/calendar/2014/12/10/19824/
CLASS:PUBLIC
STATUS:CONFIRMED
COMMENT:Please contact Alisha Camacho, at 512-232-7110 or <a href="mailto:acamacho@law.utexas.edu">acamacho@law.utexas.edu</a>.
END:VEVENT
END:VCALENDAR