BEGIN:VCALENDAR
VERSION:2.0
PRODID:-//UNIVERSITY OF TEXAS SCHOOL OF LAW//NONSGML Events Calendar v1.0//EN
X-WR-TIMEZONE:America/Chicago
BEGIN:VTIMEZONE
TZID:US/Central
X-LIC-LOCATION:America/Chicago
BEGIN:DAYLIGHT
TZOFFSETFROM:-0600
TZOFFSETTO:-0500
TZNAME:CDT
DTSTART:19700308T020000
RRULE:FREQ=YEARLY;BYMONTH=3;BYDAY=2SU
END:DAYLIGHT
BEGIN:STANDARD
TZOFFSETFROM:-0500
TZOFFSETTO:-0600
TZNAME:CST
DTSTART:19701101T020000
RRULE:FREQ=YEARLY;BYMONTH=11;BYDAY=1SU
END:STANDARD
END:VTIMEZONE
BEGIN:VEVENT
DTSTART;TZID=US/Central:20141213T150000
DTEND;VALUE=DATE-TIME;TZID=US/Central:20141213T210000

DTSTAMP:20260420T172000Z
CREATED:20140716T203400Z
LAST-MODIFIED:20141202T175900Z
UID:20141213T150000-19173@law.utexas.edu
SUMMARY:40 Years of Immigration Challenges
DESCRIPTION:<p>Panel discussions will address current immigration issues and offer a retrospective look at major immigration litigation and advocacy efforts over the last 40 years, through the lense of Barbara Hines' career.  A reception and celebratory dinner will follow.  You are encouraged to attend all or a portion of the event.</p>
  <p>The Panel discussions will have 2.50 general MCLE hours including 0.00 ethics hours.</p>\n\nIf you need an accommodation to participate in this event, please contact the event sponsor or the Texas Law Special Events Office at specialevents@law.utexas.edu no later than seven business days prior to the event.
X-ALT-DESC;FMTTYPE=text/html:<p>Panel discussions will address current immigration issues and offer a retrospective look at major immigration litigation and advocacy efforts over the last 40 years, through the lense of Barbara Hines' career.  A reception and celebratory dinner will follow.  You are encouraged to attend all or a portion of the event.</p>
  <p>The Panel discussions will have 2.50 general MCLE hours including 0.00 ethics hours.</p><p>If you need an accommodation to participate in this event, please contact the event
                                          event sponsor or the Texas Law Special Events Office at <a href="mailto:specialevents@law.utexas.edu">specialevents@law.utexas.edu</a> no later than seven business days prior to the event.</p>
CATEGORIES:Panel Discussion / Speaker Series
LOCATION:CCJ 2.306 - Eidman Courtroom
URL:http://law.utexas.edu/calendar/2014/12/13/19173/
CLASS:PUBLIC
STATUS:CONFIRMED

END:VEVENT
END:VCALENDAR