BEGIN:VCALENDAR
VERSION:2.0
PRODID:-//UNIVERSITY OF TEXAS SCHOOL OF LAW//NONSGML Events Calendar v1.0//EN
X-WR-TIMEZONE:America/Chicago
BEGIN:VTIMEZONE
TZID:US/Central
X-LIC-LOCATION:America/Chicago
BEGIN:DAYLIGHT
TZOFFSETFROM:-0600
TZOFFSETTO:-0500
TZNAME:CDT
DTSTART:19700308T020000
RRULE:FREQ=YEARLY;BYMONTH=3;BYDAY=2SU
END:DAYLIGHT
BEGIN:STANDARD
TZOFFSETFROM:-0500
TZOFFSETTO:-0600
TZNAME:CST
DTSTART:19701101T020000
RRULE:FREQ=YEARLY;BYMONTH=11;BYDAY=1SU
END:STANDARD
END:VTIMEZONE
BEGIN:VEVENT
DTSTART;TZID=US/Central:20150105T140000


DTSTAMP:20260420T160300Z
CREATED:20150105T180600Z
LAST-MODIFIED:20150105T182700Z
UID:20150105T140000-19969@law.utexas.edu
SUMMARY:Mock Interview Program 1L Sign Up Begins
DESCRIPTION:<p>Each spring the CSO presents a <a href="http://www.utexas.edu/law/career/resources/mock_interviews2.html">Mock Interview Program</a> where attorneys come on campus to provide mock interviews with 1L students prior to Spring OCI and Public Service Career Fair. 1Ls may begin scheduling one interview today at noon (CST). Scheduling is a on a first-come, first-served basis. <strong>Scheduling is a on a first-come, first-served basis.</strong></p>
  <p>If interview slots remain available, the CSO will notify 2Ls and 3Ls that they may register as well.
  </p>\n\nIf you need an accommodation to participate in this event, please contact the event sponsor or the Texas Law Special Events Office at specialevents@law.utexas.edu no later than seven business days prior to the event.
X-ALT-DESC;FMTTYPE=text/html:<p>Each spring the CSO presents a <a href="http://www.utexas.edu/law/career/resources/mock_interviews2.html">Mock Interview Program</a> where attorneys come on campus to provide mock interviews with 1L students prior to Spring OCI and Public Service Career Fair. 1Ls may begin scheduling one interview today at noon (CST). Scheduling is a on a first-come, first-served basis. <strong>Scheduling is a on a first-come, first-served basis.</strong></p>
  <p>If interview slots remain available, the CSO will notify 2Ls and 3Ls that they may register as well.
  </p><p>If you need an accommodation to participate in this event, please contact the event
                                          event sponsor or the Texas Law Special Events Office at <a href="mailto:specialevents@law.utexas.edu">specialevents@law.utexas.edu</a> no later than seven business days prior to the event.</p>
CATEGORIES:Workshop / Training Program

URL:http://law.utexas.edu/calendar/2015/01/05/19969/
CLASS:PUBLIC
STATUS:CONFIRMED
COMMENT:Please contact Sandra Puga, On-Campus Interview Coordinator, at 512-232-1161 or <a href="mailto:spuga@law.utexas.edu">spuga@law.utexas.edu</a>.
END:VEVENT
END:VCALENDAR