BEGIN:VCALENDAR
VERSION:2.0
PRODID:-//UNIVERSITY OF TEXAS SCHOOL OF LAW//NONSGML Events Calendar v1.0//EN
X-WR-TIMEZONE:America/Chicago
BEGIN:VTIMEZONE
TZID:US/Central
X-LIC-LOCATION:America/Chicago
BEGIN:DAYLIGHT
TZOFFSETFROM:-0600
TZOFFSETTO:-0500
TZNAME:CDT
DTSTART:19700308T020000
RRULE:FREQ=YEARLY;BYMONTH=3;BYDAY=2SU
END:DAYLIGHT
BEGIN:STANDARD
TZOFFSETFROM:-0500
TZOFFSETTO:-0600
TZNAME:CST
DTSTART:19701101T020000
RRULE:FREQ=YEARLY;BYMONTH=11;BYDAY=1SU
END:STANDARD
END:VTIMEZONE
BEGIN:VEVENT
DTSTART;TZID=US/Central:20150108T170000
DTEND;TZID=US/Central:20150108T170000

DTSTAMP:20260420T160000Z
CREATED:20150105T181000Z
LAST-MODIFIED:20150105T181000Z
UID:20150108T000000-19972@law.utexas.edu
SUMMARY:Mock Interview Program - Sign Up Ends
DESCRIPTION:<p>Each spring the CSO presents a <a href="http://www.utexas.edu/law/career/resources/mock_interviews2.html">Mock Interview Program</a> where attorneys come on campus to provide mock interviews with 1L students prior to Spring OCI and Public Service Career Fair. Scheduling for 1Ls, 2Ls, and 3Ls closes today at 5 p.m. Scheduling is a on a first-come, first-served basis.</p>\n\nIf you need an accommodation to participate in this event, please contact the event sponsor or the Texas Law Special Events Office at specialevents@law.utexas.edu no later than seven business days prior to the event.
X-ALT-DESC;FMTTYPE=text/html:<p>Each spring the CSO presents a <a href="http://www.utexas.edu/law/career/resources/mock_interviews2.html">Mock Interview Program</a> where attorneys come on campus to provide mock interviews with 1L students prior to Spring OCI and Public Service Career Fair. Scheduling for 1Ls, 2Ls, and 3Ls closes today at 5 p.m. Scheduling is a on a first-come, first-served basis.</p><p>If you need an accommodation to participate in this event, please contact the event
                                          event sponsor or the Texas Law Special Events Office at <a href="mailto:specialevents@law.utexas.edu">specialevents@law.utexas.edu</a> no later than seven business days prior to the event.</p>
CATEGORIES:Workshop / Training Program

URL:http://law.utexas.edu/calendar/2015/01/08/19972/
CLASS:PUBLIC
STATUS:CONFIRMED
COMMENT:Please contact Sandra Puga, On-Campus Interview Coordinator, at 512-232-1161 or <a href="mailto:spuga@law.utexas.edu">spuga@law.utexas.edu</a>.
END:VEVENT
END:VCALENDAR