BEGIN:VCALENDAR
VERSION:2.0
PRODID:-//UNIVERSITY OF TEXAS SCHOOL OF LAW//NONSGML Events Calendar v1.0//EN
X-WR-TIMEZONE:America/Chicago
BEGIN:VTIMEZONE
TZID:US/Central
X-LIC-LOCATION:America/Chicago
BEGIN:DAYLIGHT
TZOFFSETFROM:-0600
TZOFFSETTO:-0500
TZNAME:CDT
DTSTART:19700308T020000
RRULE:FREQ=YEARLY;BYMONTH=3;BYDAY=2SU
END:DAYLIGHT
BEGIN:STANDARD
TZOFFSETFROM:-0500
TZOFFSETTO:-0600
TZNAME:CST
DTSTART:19701101T020000
RRULE:FREQ=YEARLY;BYMONTH=11;BYDAY=1SU
END:STANDARD
END:VTIMEZONE
BEGIN:VEVENT
DTSTART;TZID=US/Central:20150123T123000
DTEND;VALUE=DATE-TIME;TZID=US/Central:20150123T140000

DTSTAMP:20260420T160200Z
CREATED:20140610T214900Z
LAST-MODIFIED:20150115T210200Z
UID:20150123T123000-18995@law.utexas.edu
SUMMARY:Judicial Clerkship Application Clinic
DESCRIPTION:<p>Nitty-gritty information on judicial clerkship applications. Judicial Clerkship Advisors will help you navigate application materials, the Clerkship Application Manager System (CAM), OSCAR and Canvas. Bring you draft application materials and your laptop.</p>
  <p>Lunch will be served. RSVP by Thursday, January 22 , on <a href="https://law-utexas-csm.symplicity.com/students/"> Symplicity</a> by selecting the "Events" tab.</p>\n\nIf you need an accommodation to participate in this event, please contact the event sponsor or the Texas Law Special Events Office at specialevents@law.utexas.edu no later than seven business days prior to the event.
X-ALT-DESC;FMTTYPE=text/html:<p>Nitty-gritty information on judicial clerkship applications. Judicial Clerkship Advisors will help you navigate application materials, the Clerkship Application Manager System (CAM), OSCAR and Canvas. Bring you draft application materials and your laptop.</p>
  <p>Lunch will be served. RSVP by Thursday, January 22 , on <a href="https://law-utexas-csm.symplicity.com/students/"> Symplicity</a> by selecting the "Events" tab.</p><p>If you need an accommodation to participate in this event, please contact the event
                                          event sponsor or the Texas Law Special Events Office at <a href="mailto:specialevents@law.utexas.edu">specialevents@law.utexas.edu</a> no later than seven business days prior to the event.</p>
CATEGORIES:Workshop / Training Program
LOCATION:TNH 2.123 - Beck Classroom
URL:http://law.utexas.edu/calendar/2015/01/23/18995/
CLASS:PUBLIC
STATUS:CONFIRMED

END:VEVENT
END:VCALENDAR