BEGIN:VCALENDAR
VERSION:2.0
PRODID:-//UNIVERSITY OF TEXAS SCHOOL OF LAW//NONSGML Events Calendar v1.0//EN
X-WR-TIMEZONE:America/Chicago
BEGIN:VTIMEZONE
TZID:US/Central
X-LIC-LOCATION:America/Chicago
BEGIN:DAYLIGHT
TZOFFSETFROM:-0600
TZOFFSETTO:-0500
TZNAME:CDT
DTSTART:19700308T020000
RRULE:FREQ=YEARLY;BYMONTH=3;BYDAY=2SU
END:DAYLIGHT
BEGIN:STANDARD
TZOFFSETFROM:-0500
TZOFFSETTO:-0600
TZNAME:CST
DTSTART:19701101T020000
RRULE:FREQ=YEARLY;BYMONTH=11;BYDAY=1SU
END:STANDARD
END:VTIMEZONE
BEGIN:VEVENT
DTSTART;TZID=US/Central:20150126
DTEND;TZID=US/Central:20150127
X-MICROSOFT-CDO-ALLDAYEVENT:TRUE
X-FUNAMBOL-ALLDAY:TRUE
DTSTAMP:20260420T160300Z
CREATED:20140213T141000Z
LAST-MODIFIED:20140430T193200Z
UID:20150126T080000-18604@law.utexas.edu
SUMMARY:Tarlton/ULC Archives
DESCRIPTION:<p>One-day conference marking the public availability of the Uniform Law Commission archives held by the Tarlton Law Library, and celebrating the UT Law School's contributions to the work of the Uniform Law Commission.  Several panel discussions will address the importance of archival research, the role of UT, and the future of uniform state legislation.  The event will include morning and afternoon breaks and a luncheon with speaker.</p>\n\nIf you need an accommodation to participate in this event, please contact the event sponsor or the Texas Law Special Events Office at specialevents@law.utexas.edu no later than seven business days prior to the event.
X-ALT-DESC;FMTTYPE=text/html:<p>One-day conference marking the public availability of the Uniform Law Commission archives held by the Tarlton Law Library, and celebrating the UT Law School's contributions to the work of the Uniform Law Commission.  Several panel discussions will address the importance of archival research, the role of UT, and the future of uniform state legislation.  The event will include morning and afternoon breaks and a luncheon with speaker.</p><p>If you need an accommodation to participate in this event, please contact the event
                                          event sponsor or the Texas Law Special Events Office at <a href="mailto:specialevents@law.utexas.edu">specialevents@law.utexas.edu</a> no later than seven business days prior to the event.</p>
CATEGORIES:Panel Discussion / Speaker Series
LOCATION:CCJ 2.306 - Eidman Courtroom
URL:http://law.utexas.edu/calendar/2015/01/26/18604/
CLASS:PUBLIC
STATUS:CONFIRMED
COMMENT:Barbara Bintliff or John Sebert (ULC)
END:VEVENT
END:VCALENDAR