BEGIN:VCALENDAR
VERSION:2.0
PRODID:-//UNIVERSITY OF TEXAS SCHOOL OF LAW//NONSGML Events Calendar v1.0//EN
X-WR-TIMEZONE:America/Chicago
BEGIN:VTIMEZONE
TZID:US/Central
X-LIC-LOCATION:America/Chicago
BEGIN:DAYLIGHT
TZOFFSETFROM:-0600
TZOFFSETTO:-0500
TZNAME:CDT
DTSTART:19700308T020000
RRULE:FREQ=YEARLY;BYMONTH=3;BYDAY=2SU
END:DAYLIGHT
BEGIN:STANDARD
TZOFFSETFROM:-0500
TZOFFSETTO:-0600
TZNAME:CST
DTSTART:19701101T020000
RRULE:FREQ=YEARLY;BYMONTH=11;BYDAY=1SU
END:STANDARD
END:VTIMEZONE
BEGIN:VEVENT
DTSTART;TZID=US/Central:20150126
DTEND;TZID=US/Central:20150127
X-MICROSOFT-CDO-ALLDAYEVENT:TRUE
X-FUNAMBOL-ALLDAY:TRUE
DTSTAMP:20260420T160400Z
CREATED:20150123T164900Z
LAST-MODIFIED:20150123T204500Z
UID:20150126T000000-20058@law.utexas.edu
SUMMARY:TJWGL Spring Write-On Competition
DESCRIPTION:<p>The Texas Journal of Women, Gender, &amp; the Law is having its Spring 2015 Write-On Competition! Membership with TJWGL is great opportunity for 1Ls and 2Ls to improve their editing skills, and gives students a chance to advance to Ed Board their 2L or 3L year. TJWGL coordinates with several organizations, including ASAP, WLC, and the CWIL, on events held throughout the year. TJWGL will also be hosting a symposium this Spring on Domestic Violence.</p>
  <p>The Write-On will begin this Sunday, January 25th, and completed applications should be submitted either to Lauren Miller via email at laurendm@utexas.edu, or to TJWGL's box in the Communications Center by 5pm on Friday, January 30th. All gender orientations at UT Law are welcome to apply.</p>\n\nIf you need an accommodation to participate in this event, please contact the event sponsor or the Texas Law Special Events Office at specialevents@law.utexas.edu no later than seven business days prior to the event.
X-ALT-DESC;FMTTYPE=text/html:<p>The Texas Journal of Women, Gender, &amp; the Law is having its Spring 2015 Write-On Competition! Membership with TJWGL is great opportunity for 1Ls and 2Ls to improve their editing skills, and gives students a chance to advance to Ed Board their 2L or 3L year. TJWGL coordinates with several organizations, including ASAP, WLC, and the CWIL, on events held throughout the year. TJWGL will also be hosting a symposium this Spring on Domestic Violence.</p>
  <p>The Write-On will begin this Sunday, January 25th, and completed applications should be submitted either to Lauren Miller via email at laurendm@utexas.edu, or to TJWGL's box in the Communications Center by 5pm on Friday, January 30th. All gender orientations at UT Law are welcome to apply.</p><p>If you need an accommodation to participate in this event, please contact the event
                                          event sponsor or the Texas Law Special Events Office at <a href="mailto:specialevents@law.utexas.edu">specialevents@law.utexas.edu</a> no later than seven business days prior to the event.</p>
CATEGORIES:Other

URL:http://law.utexas.edu/calendar/2015/01/26/20058/
CLASS:PUBLIC
STATUS:CONFIRMED
COMMENT:Contact Lauren Miller at laurendm@utexas.edu
END:VEVENT
END:VCALENDAR