BEGIN:VCALENDAR
VERSION:2.0
PRODID:-//UNIVERSITY OF TEXAS SCHOOL OF LAW//NONSGML Events Calendar v1.0//EN
X-WR-TIMEZONE:America/Chicago
BEGIN:VTIMEZONE
TZID:US/Central
X-LIC-LOCATION:America/Chicago
BEGIN:DAYLIGHT
TZOFFSETFROM:-0600
TZOFFSETTO:-0500
TZNAME:CDT
DTSTART:19700308T020000
RRULE:FREQ=YEARLY;BYMONTH=3;BYDAY=2SU
END:DAYLIGHT
BEGIN:STANDARD
TZOFFSETFROM:-0500
TZOFFSETTO:-0600
TZNAME:CST
DTSTART:19701101T020000
RRULE:FREQ=YEARLY;BYMONTH=11;BYDAY=1SU
END:STANDARD
END:VTIMEZONE
BEGIN:VEVENT
DTSTART;TZID=US/Central:20150127T113000
DTEND;VALUE=DATE-TIME;TZID=US/Central:20150127T133000

DTSTAMP:20260420T160400Z
CREATED:20141110T221700Z
LAST-MODIFIED:20150121T151100Z
UID:20150127T113000-19800@law.utexas.edu
SUMMARY:KBH Center Spring '15 Distinguished Lect
DESCRIPTION:<p>KBH Center Distinguished Lecture 
  Date: Jan. 27, 2015
  Location: Townes Hall 2.111 - Sheffield-Massey Room
  Speakers: 
  Becky Klein, Principal, Klein Energy LLC
  Barry Smitherman, Former Chairman, Texas Railroad Commission
  Ms. Kleinman and Mr. Smitherman will be sharing their thoughts about the most important energy issues in Texas and their perspective on the wealth of economic opportunities presented by the growth of the energy industry in our state. </p>\n\nIf you need an accommodation to participate in this event, please contact the event sponsor or the Texas Law Special Events Office at specialevents@law.utexas.edu no later than seven business days prior to the event.
X-ALT-DESC;FMTTYPE=text/html:<p>KBH Center Distinguished Lecture 
  Date: Jan. 27, 2015
  Location: Townes Hall 2.111 - Sheffield-Massey Room
  Speakers: 
  Becky Klein, Principal, Klein Energy LLC
  Barry Smitherman, Former Chairman, Texas Railroad Commission
  Ms. Kleinman and Mr. Smitherman will be sharing their thoughts about the most important energy issues in Texas and their perspective on the wealth of economic opportunities presented by the growth of the energy industry in our state. </p><p>If you need an accommodation to participate in this event, please contact the event
                                          event sponsor or the Texas Law Special Events Office at <a href="mailto:specialevents@law.utexas.edu">specialevents@law.utexas.edu</a> no later than seven business days prior to the event.</p>
CATEGORIES:Panel Discussion / Speaker Series
LOCATION:TNH 2.111 - Sheffield-Massey Room
URL:http://law.utexas.edu/calendar/2015/01/27/19800/
CLASS:PUBLIC
STATUS:CONFIRMED

END:VEVENT
END:VCALENDAR