BEGIN:VCALENDAR
VERSION:2.0
PRODID:-//UNIVERSITY OF TEXAS SCHOOL OF LAW//NONSGML Events Calendar v1.0//EN
X-WR-TIMEZONE:America/Chicago
BEGIN:VTIMEZONE
TZID:US/Central
X-LIC-LOCATION:America/Chicago
BEGIN:DAYLIGHT
TZOFFSETFROM:-0600
TZOFFSETTO:-0500
TZNAME:CDT
DTSTART:19700308T020000
RRULE:FREQ=YEARLY;BYMONTH=3;BYDAY=2SU
END:DAYLIGHT
BEGIN:STANDARD
TZOFFSETFROM:-0500
TZOFFSETTO:-0600
TZNAME:CST
DTSTART:19701101T020000
RRULE:FREQ=YEARLY;BYMONTH=11;BYDAY=1SU
END:STANDARD
END:VTIMEZONE
BEGIN:VEVENT
DTSTART;TZID=US/Central:20150128T160000
DTEND;VALUE=DATE-TIME;TZID=US/Central:20150128T170000

DTSTAMP:20260420T143500Z
CREATED:20150107T235000Z
LAST-MODIFIED:20150128T162000Z
UID:20150128T160000-19980@law.utexas.edu
SUMMARY:Northwestern Tax Program
DESCRIPTION:<p>Learn more about the LL.M. in Taxation &amp; J.D./LL.M. in Taxation Joint Degree Programs.</p>
  <p>Northwestern's Tax Program offers you an opportunity to develop an expertise in all aspects of taxation through the LL.M. in Taxation and J.D./LL.M. in Taxation Joint Degree programs. Philip Postlewaite, Director of the Tax Program, will describe the curriculum and degree requirements and answer any questions that you might have.  This presentation is open to first, second, and third year students. 
  RSVP by Tuesday, January 27, on <a href="https://law-utexas-csm.symplicity.com/students/"> Symplicity</a> by selecting the "Events" tab.</p>\n\nIf you need an accommodation to participate in this event, please contact the event sponsor or the Texas Law Special Events Office at specialevents@law.utexas.edu no later than seven business days prior to the event.
X-ALT-DESC;FMTTYPE=text/html:<p>Learn more about the LL.M. in Taxation &amp; J.D./LL.M. in Taxation Joint Degree Programs.</p>
  <p>Northwestern's Tax Program offers you an opportunity to develop an expertise in all aspects of taxation through the LL.M. in Taxation and J.D./LL.M. in Taxation Joint Degree programs. Philip Postlewaite, Director of the Tax Program, will describe the curriculum and degree requirements and answer any questions that you might have.  This presentation is open to first, second, and third year students. 
  RSVP by Tuesday, January 27, on <a href="https://law-utexas-csm.symplicity.com/students/"> Symplicity</a> by selecting the "Events" tab.</p><p>If you need an accommodation to participate in this event, please contact the event
                                          event sponsor or the Texas Law Special Events Office at <a href="mailto:specialevents@law.utexas.edu">specialevents@law.utexas.edu</a> no later than seven business days prior to the event.</p>
CATEGORIES:Workshop / Training Program
LOCATION:CCJ 2.310 - Jury Room
URL:http://law.utexas.edu/calendar/2015/01/28/19980/
CLASS:PUBLIC
STATUS:CONFIRMED
COMMENT:Please contact Natalie Aitken, Career Counselor, at 512-232-6056 or <a href="mailto:naitken@law.utexas.edu">naitken@law.utexas.edu</a>.
END:VEVENT
END:VCALENDAR