BEGIN:VCALENDAR
VERSION:2.0
PRODID:-//UNIVERSITY OF TEXAS SCHOOL OF LAW//NONSGML Events Calendar v1.0//EN
X-WR-TIMEZONE:America/Chicago
BEGIN:VTIMEZONE
TZID:US/Central
X-LIC-LOCATION:America/Chicago
BEGIN:DAYLIGHT
TZOFFSETFROM:-0600
TZOFFSETTO:-0500
TZNAME:CDT
DTSTART:19700308T020000
RRULE:FREQ=YEARLY;BYMONTH=3;BYDAY=2SU
END:DAYLIGHT
BEGIN:STANDARD
TZOFFSETFROM:-0500
TZOFFSETTO:-0600
TZNAME:CST
DTSTART:19701101T020000
RRULE:FREQ=YEARLY;BYMONTH=11;BYDAY=1SU
END:STANDARD
END:VTIMEZONE
BEGIN:VEVENT
DTSTART;TZID=US/Central:20150130T080000
DTEND;VALUE=DATE-TIME;TZID=US/Central:20150130T170000

DTSTAMP:20260420T160300Z
CREATED:20140530T184400Z
LAST-MODIFIED:20150127T172200Z
UID:20150130T080000-18953@law.utexas.edu
SUMMARY:TLR Symposium: Science Challenges
DESCRIPTION:<p>In this symposium hosted by the Texas Law Review, top science and law scholars will meet in the search for cross-cutting themes emerging at the intersection of science and law, with particular focus on issues arising in criminal justice, bioethics, and the environment.</p>\n\nIf you need an accommodation to participate in this event, please contact the event sponsor or the Texas Law Special Events Office at specialevents@law.utexas.edu no later than seven business days prior to the event.
X-ALT-DESC;FMTTYPE=text/html:<p>In this symposium hosted by the Texas Law Review, top science and law scholars will meet in the search for cross-cutting themes emerging at the intersection of science and law, with particular focus on issues arising in criminal justice, bioethics, and the environment.</p><p>If you need an accommodation to participate in this event, please contact the event
                                          event sponsor or the Texas Law Special Events Office at <a href="mailto:specialevents@law.utexas.edu">specialevents@law.utexas.edu</a> no later than seven business days prior to the event.</p>
CATEGORIES:Symposium
LOCATION:CCJ 2.306 - Eidman Courtroom
URL:http://law.utexas.edu/calendar/2015/01/30/18953/
CLASS:PUBLIC
STATUS:CONFIRMED
COMMENT:admin@texaslrev.com
END:VEVENT
END:VCALENDAR