BEGIN:VCALENDAR
VERSION:2.0
PRODID:-//UNIVERSITY OF TEXAS SCHOOL OF LAW//NONSGML Events Calendar v1.0//EN
X-WR-TIMEZONE:America/Chicago
BEGIN:VTIMEZONE
TZID:US/Central
X-LIC-LOCATION:America/Chicago
BEGIN:DAYLIGHT
TZOFFSETFROM:-0600
TZOFFSETTO:-0500
TZNAME:CDT
DTSTART:19700308T020000
RRULE:FREQ=YEARLY;BYMONTH=3;BYDAY=2SU
END:DAYLIGHT
BEGIN:STANDARD
TZOFFSETFROM:-0500
TZOFFSETTO:-0600
TZNAME:CST
DTSTART:19701101T020000
RRULE:FREQ=YEARLY;BYMONTH=11;BYDAY=1SU
END:STANDARD
END:VTIMEZONE
BEGIN:VEVENT
DTSTART;TZID=US/Central:20150130
DTEND;TZID=US/Central:20150131
X-MICROSOFT-CDO-ALLDAYEVENT:TRUE
X-FUNAMBOL-ALLDAY:TRUE
DTSTAMP:20260420T172100Z
CREATED:20140604T154200Z
LAST-MODIFIED:20140604T170300Z
UID:20150130T000000-18965@law.utexas.edu
SUMMARY:Public Service Career Fair (Day II)
DESCRIPTION:<p>Hosted annually by the UT Law Career Services Office, Public Service Career Fair (PSCF) is the largest public service job fair for law students in Texas. During both days of PSCF, which will be held January 29-30, 2015, public interest and government employers will conduct on-campus interviews for paid and unpaid summer and permanent positions in the Career Services Interview Suite.</p>\n\nIf you need an accommodation to participate in this event, please contact the event sponsor or the Texas Law Special Events Office at specialevents@law.utexas.edu no later than seven business days prior to the event.
X-ALT-DESC;FMTTYPE=text/html:<p>Hosted annually by the UT Law Career Services Office, Public Service Career Fair (PSCF) is the largest public service job fair for law students in Texas. During both days of PSCF, which will be held January 29-30, 2015, public interest and government employers will conduct on-campus interviews for paid and unpaid summer and permanent positions in the Career Services Interview Suite.</p><p>If you need an accommodation to participate in this event, please contact the event
                                          event sponsor or the Texas Law Special Events Office at <a href="mailto:specialevents@law.utexas.edu">specialevents@law.utexas.edu</a> no later than seven business days prior to the event.</p>

LOCATION:TNH 3.122 - Career Services Interview Suite
URL:http://law.utexas.edu/calendar/2015/01/30/18965/
CLASS:PUBLIC
STATUS:CONFIRMED
COMMENT:Please contact Alisha Camacho, Job Fair Coordinator, at 512-232-7110 or acamacho@law.utexas.edu
END:VEVENT
END:VCALENDAR