BEGIN:VCALENDAR
VERSION:2.0
PRODID:-//UNIVERSITY OF TEXAS SCHOOL OF LAW//NONSGML Events Calendar v1.0//EN
X-WR-TIMEZONE:America/Chicago
BEGIN:VTIMEZONE
TZID:US/Central
X-LIC-LOCATION:America/Chicago
BEGIN:DAYLIGHT
TZOFFSETFROM:-0600
TZOFFSETTO:-0500
TZNAME:CDT
DTSTART:19700308T020000
RRULE:FREQ=YEARLY;BYMONTH=3;BYDAY=2SU
END:DAYLIGHT
BEGIN:STANDARD
TZOFFSETFROM:-0500
TZOFFSETTO:-0600
TZNAME:CST
DTSTART:19701101T020000
RRULE:FREQ=YEARLY;BYMONTH=11;BYDAY=1SU
END:STANDARD
END:VTIMEZONE
BEGIN:VEVENT
DTSTART;TZID=US/Central:20150130T120000
DTEND;VALUE=DATE-TIME;TZID=US/Central:20150130T131500

DTSTAMP:20260420T160300Z
CREATED:20140604T163900Z
LAST-MODIFIED:20141118T205500Z
UID:20150130T120000-18966@law.utexas.edu
SUMMARY:Heather Jarvis
DESCRIPTION:<p>On Friday, January 30, <a href="askheatherjarvis.com">Heather Jarvis</a> will be speaking about "Public Service Loan Forgiveness in Five Easy Steps" during lunch from noon-1:15 p.m. as part of the Public Service Career Fair. Many government and nonprofit professionals stand to gain tens of thousands of dollars of student debt relief from the Public Service Loan Forgiveness program established by the College Cost Reduction and Access Act. But the program requirements can be confusing. Heather knows how to break it down step-by-step so it makes sense once and for all. She'll also be discussing the Pay As You Earn Repayment Plan.</p>
  <p>Lunch will be served. <a href="https://www.eventbrite.com/e/heather-jarvis-public-service-loan-forgiveness-in-five-easy-steps-tickets-14449891013">RSVP on Eventbrite</a> by Thursday, January 29, 2015.</p>\n\nIf you need an accommodation to participate in this event, please contact the event sponsor or the Texas Law Special Events Office at specialevents@law.utexas.edu no later than seven business days prior to the event.
X-ALT-DESC;FMTTYPE=text/html:<p>On Friday, January 30, <a href="askheatherjarvis.com">Heather Jarvis</a> will be speaking about "Public Service Loan Forgiveness in Five Easy Steps" during lunch from noon-1:15 p.m. as part of the Public Service Career Fair. Many government and nonprofit professionals stand to gain tens of thousands of dollars of student debt relief from the Public Service Loan Forgiveness program established by the College Cost Reduction and Access Act. But the program requirements can be confusing. Heather knows how to break it down step-by-step so it makes sense once and for all. She'll also be discussing the Pay As You Earn Repayment Plan.</p>
  <p>Lunch will be served. <a href="https://www.eventbrite.com/e/heather-jarvis-public-service-loan-forgiveness-in-five-easy-steps-tickets-14449891013">RSVP on Eventbrite</a> by Thursday, January 29, 2015.</p><p>If you need an accommodation to participate in this event, please contact the event
                                          event sponsor or the Texas Law Special Events Office at <a href="mailto:specialevents@law.utexas.edu">specialevents@law.utexas.edu</a> no later than seven business days prior to the event.</p>
CATEGORIES:Workshop / Training Program
LOCATION:TNH 2.114 - Francis Auditorium
URL:http://law.utexas.edu/calendar/2015/01/30/18966/
CLASS:PUBLIC
STATUS:CONFIRMED
COMMENT:Please contact Nicole Simmons, Director of Public Service Programs, at 512-232-1160 or <a href="mailto:nsimmons@law.utexas.edu">nsimmons@law.utexas.edu</a>.
END:VEVENT
END:VCALENDAR