BEGIN:VCALENDAR
VERSION:2.0
PRODID:-//UNIVERSITY OF TEXAS SCHOOL OF LAW//NONSGML Events Calendar v1.0//EN
X-WR-TIMEZONE:America/Chicago
BEGIN:VTIMEZONE
TZID:US/Central
X-LIC-LOCATION:America/Chicago
BEGIN:DAYLIGHT
TZOFFSETFROM:-0600
TZOFFSETTO:-0500
TZNAME:CDT
DTSTART:19700308T020000
RRULE:FREQ=YEARLY;BYMONTH=3;BYDAY=2SU
END:DAYLIGHT
BEGIN:STANDARD
TZOFFSETFROM:-0500
TZOFFSETTO:-0600
TZNAME:CST
DTSTART:19701101T020000
RRULE:FREQ=YEARLY;BYMONTH=11;BYDAY=1SU
END:STANDARD
END:VTIMEZONE
BEGIN:VEVENT
DTSTART;TZID=US/Central:20150203T173000
DTEND;VALUE=DATE-TIME;TZID=US/Central:20150203T194500

DTSTAMP:20260420T132300Z
CREATED:20141115T213000Z
LAST-MODIFIED:20150126T043800Z
UID:20150203T173000-19807@law.utexas.edu
SUMMARY:Aqui y Alla Film Screening
DESCRIPTION:<p>Screening of Aquí y Allá (Here and There), a 2012 drama film directed by Antonio Méndez Esparza. The film is about a Mexican immigrant who returns home to a small mountain village in Guerrero, Mexico after years of working in the US, and struggles to rebuild his family and follow his dream of starting a band: the Copa Kings. The film won the International Critics' Week Grand Prize at the 2012 Cannes Film Festival.</p>
  <p>The event is hosted by the Chicano/Hispanic Law Students' Association, the Texas Hispanic Journal of Law and Policy, the William Wayne Justice Center for Public Interest Law, and the Bernard &amp; Audre Rapoport Center for Human Rights &amp; Justice.</p>\n\nIf you need an accommodation to participate in this event, please contact the event sponsor or the Texas Law Special Events Office at specialevents@law.utexas.edu no later than seven business days prior to the event.
X-ALT-DESC;FMTTYPE=text/html:<p>Screening of Aquí y Allá (Here and There), a 2012 drama film directed by Antonio Méndez Esparza. The film is about a Mexican immigrant who returns home to a small mountain village in Guerrero, Mexico after years of working in the US, and struggles to rebuild his family and follow his dream of starting a band: the Copa Kings. The film won the International Critics' Week Grand Prize at the 2012 Cannes Film Festival.</p>
  <p>The event is hosted by the Chicano/Hispanic Law Students' Association, the Texas Hispanic Journal of Law and Policy, the William Wayne Justice Center for Public Interest Law, and the Bernard &amp; Audre Rapoport Center for Human Rights &amp; Justice.</p><p>If you need an accommodation to participate in this event, please contact the event
                                          event sponsor or the Texas Law Special Events Office at <a href="mailto:specialevents@law.utexas.edu">specialevents@law.utexas.edu</a> no later than seven business days prior to the event.</p>
CATEGORIES:Other
LOCATION:TNH 2.123 - Beck Classroom
URL:http://law.utexas.edu/calendar/2015/02/03/19807/
CLASS:PUBLIC
STATUS:CONFIRMED

END:VEVENT
END:VCALENDAR