BEGIN:VCALENDAR
VERSION:2.0
PRODID:-//UNIVERSITY OF TEXAS SCHOOL OF LAW//NONSGML Events Calendar v1.0//EN
X-WR-TIMEZONE:America/Chicago
BEGIN:VTIMEZONE
TZID:US/Central
X-LIC-LOCATION:America/Chicago
BEGIN:DAYLIGHT
TZOFFSETFROM:-0600
TZOFFSETTO:-0500
TZNAME:CDT
DTSTART:19700308T020000
RRULE:FREQ=YEARLY;BYMONTH=3;BYDAY=2SU
END:DAYLIGHT
BEGIN:STANDARD
TZOFFSETFROM:-0500
TZOFFSETTO:-0600
TZNAME:CST
DTSTART:19701101T020000
RRULE:FREQ=YEARLY;BYMONTH=11;BYDAY=1SU
END:STANDARD
END:VTIMEZONE
BEGIN:VEVENT
DTSTART;TZID=US/Central:20150203T114500
DTEND;VALUE=DATE-TIME;TZID=US/Central:20150203T130000

DTSTAMP:20260420T132300Z
CREATED:20150120T165900Z
LAST-MODIFIED:20150203T165800Z
UID:20150203T114500-20042@law.utexas.edu
SUMMARY:ACS Solitary Confinement Talk
DESCRIPTION:<p>Solitary confinement is the practice of isolating prisoners from any human contact for 22-24 hours a day. Join ACS for a talk on the constitutionality and the effects of solitary confinement practices with Burke Butler of the Texas Civil Rights Project, Cindy Eigler, Director of Nation Inside, and Jennifer Carreon of the Texas Criminal Justice Coalition. Alycia Welch, Legislative Aide to Rep. Elliott Naishtat, will also be in attendance to answer any questions; Alycia used to work with the LBJ School of Public Affairs and co-authored an investigative report on the safety and security of TJJD state secure facilities. Food provided!</p>\n\nIf you need an accommodation to participate in this event, please contact the event sponsor or the Texas Law Special Events Office at specialevents@law.utexas.edu no later than seven business days prior to the event.
X-ALT-DESC;FMTTYPE=text/html:<p>Solitary confinement is the practice of isolating prisoners from any human contact for 22-24 hours a day. Join ACS for a talk on the constitutionality and the effects of solitary confinement practices with Burke Butler of the Texas Civil Rights Project, Cindy Eigler, Director of Nation Inside, and Jennifer Carreon of the Texas Criminal Justice Coalition. Alycia Welch, Legislative Aide to Rep. Elliott Naishtat, will also be in attendance to answer any questions; Alycia used to work with the LBJ School of Public Affairs and co-authored an investigative report on the safety and security of TJJD state secure facilities. Food provided!</p><p>If you need an accommodation to participate in this event, please contact the event
                                          event sponsor or the Texas Law Special Events Office at <a href="mailto:specialevents@law.utexas.edu">specialevents@law.utexas.edu</a> no later than seven business days prior to the event.</p>

LOCATION:TNH 2.123 - Beck Classroom
URL:http://law.utexas.edu/calendar/2015/02/03/20042/
CLASS:PUBLIC
STATUS:CONFIRMED

END:VEVENT
END:VCALENDAR