BEGIN:VCALENDAR
VERSION:2.0
PRODID:-//UNIVERSITY OF TEXAS SCHOOL OF LAW//NONSGML Events Calendar v1.0//EN
X-WR-TIMEZONE:America/Chicago
BEGIN:VTIMEZONE
TZID:US/Central
X-LIC-LOCATION:America/Chicago
BEGIN:DAYLIGHT
TZOFFSETFROM:-0600
TZOFFSETTO:-0500
TZNAME:CDT
DTSTART:19700308T020000
RRULE:FREQ=YEARLY;BYMONTH=3;BYDAY=2SU
END:DAYLIGHT
BEGIN:STANDARD
TZOFFSETFROM:-0500
TZOFFSETTO:-0600
TZNAME:CST
DTSTART:19701101T020000
RRULE:FREQ=YEARLY;BYMONTH=11;BYDAY=1SU
END:STANDARD
END:VTIMEZONE
BEGIN:VEVENT
DTSTART;TZID=US/Central:20150205T080000
DTEND;VALUE=DATE-TIME;TZID=US/Central:20150205T170000

DTSTAMP:20260420T132200Z
CREATED:20140610T125600Z
LAST-MODIFIED:20150129T205100Z
UID:20150205T080000-18979@law.utexas.edu
SUMMARY:TILJ Symposium 2015
DESCRIPTION:<p>Each year, the Texas International Law Journal organizes a
  symposium related to a developing area of international law. This year, the journal has selected “Immigration and Freedom of Movement” as our topic. The symposium will be held at the Eidman Courtroom at the University of Texas School of Law on February 5, 2015. We are excited to announce that this year’s symposium will be one of the largest in the journal’s history, with ten speakers from three countries. We aim to explore issues concerning international trade and migrant workers; immigration detention and other restrictions on movement; and international human rights. We will additionally host a lunchtime roundtable discussion on recent developments in domestic immigration policy and its impact on Texas. We are also proud to welcome Professor Hiroshi Motomura from the University of California at Los Angeles to deliver our keynote address.</p>\n\nIf you need an accommodation to participate in this event, please contact the event sponsor or the Texas Law Special Events Office at specialevents@law.utexas.edu no later than seven business days prior to the event.
X-ALT-DESC;FMTTYPE=text/html:<p>Each year, the Texas International Law Journal organizes a
  symposium related to a developing area of international law. This year, the journal has selected “Immigration and Freedom of Movement” as our topic. The symposium will be held at the Eidman Courtroom at the University of Texas School of Law on February 5, 2015. We are excited to announce that this year’s symposium will be one of the largest in the journal’s history, with ten speakers from three countries. We aim to explore issues concerning international trade and migrant workers; immigration detention and other restrictions on movement; and international human rights. We will additionally host a lunchtime roundtable discussion on recent developments in domestic immigration policy and its impact on Texas. We are also proud to welcome Professor Hiroshi Motomura from the University of California at Los Angeles to deliver our keynote address.</p><p>If you need an accommodation to participate in this event, please contact the event
                                          event sponsor or the Texas Law Special Events Office at <a href="mailto:specialevents@law.utexas.edu">specialevents@law.utexas.edu</a> no later than seven business days prior to the event.</p>
CATEGORIES:Symposium
LOCATION:CCJ 2.306 - Eidman Courtroom
URL:http://law.utexas.edu/calendar/2015/02/05/18979/
CLASS:PUBLIC
STATUS:CONFIRMED
COMMENT:Contact Rex Bearden at rex.bearden@gmail.com or (205)441-2449
END:VEVENT
END:VCALENDAR