BEGIN:VCALENDAR
VERSION:2.0
PRODID:-//UNIVERSITY OF TEXAS SCHOOL OF LAW//NONSGML Events Calendar v1.0//EN
X-WR-TIMEZONE:America/Chicago
BEGIN:VTIMEZONE
TZID:US/Central
X-LIC-LOCATION:America/Chicago
BEGIN:DAYLIGHT
TZOFFSETFROM:-0600
TZOFFSETTO:-0500
TZNAME:CDT
DTSTART:19700308T020000
RRULE:FREQ=YEARLY;BYMONTH=3;BYDAY=2SU
END:DAYLIGHT
BEGIN:STANDARD
TZOFFSETFROM:-0500
TZOFFSETTO:-0600
TZNAME:CST
DTSTART:19701101T020000
RRULE:FREQ=YEARLY;BYMONTH=11;BYDAY=1SU
END:STANDARD
END:VTIMEZONE
BEGIN:VEVENT
DTSTART;TZID=US/Central:20150205T113000
DTEND;VALUE=DATE-TIME;TZID=US/Central:20150205T133000

DTSTAMP:20260420T132300Z
CREATED:20141105T232700Z
LAST-MODIFIED:20150129T144500Z
UID:20150205T113000-19791@law.utexas.edu
SUMMARY:KBH Energy Center Distinguished Lecture
DESCRIPTION:<p>Spring 2015 Distinguished Lecture Series
  Sponsored by the Energy Center
  Speaker: Jaime Spellings (Texas Law '86)
  Jaime Spellings (Texas Law '86) is Vice President and Senior Tax Counsel at ExxonMobil Corporation. He is also an adjunct professor in the Energy Center where he teaches a seminar on oil &amp; gas taxation. Mr. Spellings' presentation will focus on his work at ExxonMobil, the world's largest publicly traded international oil and gas company, as well as how law school has shaped his career path. </p>\n\nIf you need an accommodation to participate in this event, please contact the event sponsor or the Texas Law Special Events Office at specialevents@law.utexas.edu no later than seven business days prior to the event.
X-ALT-DESC;FMTTYPE=text/html:<p>Spring 2015 Distinguished Lecture Series
  Sponsored by the Energy Center
  Speaker: Jaime Spellings (Texas Law '86)
  Jaime Spellings (Texas Law '86) is Vice President and Senior Tax Counsel at ExxonMobil Corporation. He is also an adjunct professor in the Energy Center where he teaches a seminar on oil &amp; gas taxation. Mr. Spellings' presentation will focus on his work at ExxonMobil, the world's largest publicly traded international oil and gas company, as well as how law school has shaped his career path. </p><p>If you need an accommodation to participate in this event, please contact the event
                                          event sponsor or the Texas Law Special Events Office at <a href="mailto:specialevents@law.utexas.edu">specialevents@law.utexas.edu</a> no later than seven business days prior to the event.</p>
CATEGORIES:Panel Discussion / Speaker Series
LOCATION:TNH 3.125 - Denius Classroom
URL:http://law.utexas.edu/calendar/2015/02/05/19791/
CLASS:PUBLIC
STATUS:CONFIRMED

END:VEVENT
END:VCALENDAR