BEGIN:VCALENDAR
VERSION:2.0
PRODID:-//UNIVERSITY OF TEXAS SCHOOL OF LAW//NONSGML Events Calendar v1.0//EN
X-WR-TIMEZONE:America/Chicago
BEGIN:VTIMEZONE
TZID:US/Central
X-LIC-LOCATION:America/Chicago
BEGIN:DAYLIGHT
TZOFFSETFROM:-0600
TZOFFSETTO:-0500
TZNAME:CDT
DTSTART:19700308T020000
RRULE:FREQ=YEARLY;BYMONTH=3;BYDAY=2SU
END:DAYLIGHT
BEGIN:STANDARD
TZOFFSETFROM:-0500
TZOFFSETTO:-0600
TZNAME:CST
DTSTART:19701101T020000
RRULE:FREQ=YEARLY;BYMONTH=11;BYDAY=1SU
END:STANDARD
END:VTIMEZONE
BEGIN:VEVENT
DTSTART;TZID=US/Central:20150205T120000
DTEND;VALUE=DATE-TIME;TZID=US/Central:20150205T130000

DTSTAMP:20260420T160300Z
CREATED:20141120T170100Z
LAST-MODIFIED:20150203T204500Z
UID:20150205T120000-19820@law.utexas.edu
SUMMARY:Paths in Indigent Defense in Texas
DESCRIPTION:<p>Learn about career paths in indigent defense in Texas. Attorneys who wish to build careers in Texas representing low-income people accused of criminal offenses must chart paths that usually do not include entry-level employment with a public defender office, few of which exist in Texas. </p>
  <p>Panelists will discuss their careers as criminal defense lawyers who work in small law firms or solo practice and who represent indigent clients, and offer advice about how students can locate training and mentorship resources to start a career in public defense outside of a public defender office.
  Panelists include Charles Blevins, ’12, Associate with Chappell, Lanehart, &amp; Stangl, and who receives indigent defense appointments through the Lubbock County Private Defender Office; Victoria Erfesoglou, ,’10, who participates in the Harris County Future Appointed Counsel (FACT) training partnership between the Harris County Public Defender’s Office and Gideon’s Promise; and Amber Vasquez Bode ’01, president of the Austin Criminal Defense Lawyers Association and a solo practitioner who has received appointments under a traditional judicial appointment system and the new Capital Area Private Defender program in Travis County. Moderated by Andrea Marsh, Director of the Mithoff Pro Bono Program and Founder of the Texas Fair Defense Project.</p>
  <p>Lunch will be provided. Please RSVP on <a href="https://law-utexas-csm.symplicity.com/students/">Symplicity</a> by selecting the 'Events' tab.</p>\n\nIf you need an accommodation to participate in this event, please contact the event sponsor or the Texas Law Special Events Office at specialevents@law.utexas.edu no later than seven business days prior to the event.
X-ALT-DESC;FMTTYPE=text/html:<p>Learn about career paths in indigent defense in Texas. Attorneys who wish to build careers in Texas representing low-income people accused of criminal offenses must chart paths that usually do not include entry-level employment with a public defender office, few of which exist in Texas. </p>
  <p>Panelists will discuss their careers as criminal defense lawyers who work in small law firms or solo practice and who represent indigent clients, and offer advice about how students can locate training and mentorship resources to start a career in public defense outside of a public defender office.
  Panelists include Charles Blevins, ’12, Associate with Chappell, Lanehart, &amp; Stangl, and who receives indigent defense appointments through the Lubbock County Private Defender Office; Victoria Erfesoglou, ,’10, who participates in the Harris County Future Appointed Counsel (FACT) training partnership between the Harris County Public Defender’s Office and Gideon’s Promise; and Amber Vasquez Bode ’01, president of the Austin Criminal Defense Lawyers Association and a solo practitioner who has received appointments under a traditional judicial appointment system and the new Capital Area Private Defender program in Travis County. Moderated by Andrea Marsh, Director of the Mithoff Pro Bono Program and Founder of the Texas Fair Defense Project.</p>
  <p>Lunch will be provided. Please RSVP on <a href="https://law-utexas-csm.symplicity.com/students/">Symplicity</a> by selecting the 'Events' tab.</p><p>If you need an accommodation to participate in this event, please contact the event
                                          event sponsor or the Texas Law Special Events Office at <a href="mailto:specialevents@law.utexas.edu">specialevents@law.utexas.edu</a> no later than seven business days prior to the event.</p>
CATEGORIES:Panel Discussion / Speaker Series
LOCATION:TNH 3.140 - Jeffers Courtroom
URL:http://law.utexas.edu/calendar/2015/02/05/19820/
CLASS:PUBLIC
STATUS:CONFIRMED

END:VEVENT
END:VCALENDAR